Workbook

Sheet 综合考核成绩
B1: 太仓市文化旅游发展集团有限公司及子公司 2023年第四批公开招聘人员综合考核成绩公示
A2: 序号 | B2: 单位 | C2: 岗位 | D2: 姓名 | E2: 身份证后四位 | F2: 笔试成绩20% | G2: 面试成绩80% | H2: 综合考核成绩 | I2: 进入下一步 | J2: 备注
A3: 1 | B3: 太仓金农开发建设有限公司 | C3: 副总经理 | D3: 徐*锋 | E3: 835X | F3: 60 | G3: =VLOOKUP(D3,[1]面试成绩!C6:E15,3,0) -> 75.71 | H3: =ROUND(F3*0.2+G3*0.8,2) -> 72.57 | I3: △
A4: 2 | D4: 张*兰 | E4: 4767 | F4: 65 | G4: =VLOOKUP(D4,[1]面试成绩!C5:E14,3,0) -> 73.29 | H4: =ROUND(F4*0.2+G4*0.8,2) -> 71.63
A5: 3 | D5: 徐* | E5: 5021 | F5: 71 | G5: =VLOOKUP(D5,[1]面试成绩!C4:E13,3,0) -> 56.14 | H5: =ROUND(F5*0.2+G5*0.8,2) -> 59.11
A6: 4 | D6: 陆* | E6: 6123 | F6: 58
A7: 5 | D7: 徐* | E7: 2114 | F7: 49
A8: 6 | D8: 何*菊 | E8: 218X | F8: 27
A9: 7 | B9: 江苏太仓现代农业园区开发建设有限公司 | C9: 景区运营经理 | D9: 李*娇 | E9: 6022 | F9: 63 | G9: =VLOOKUP(D9,[1]面试成绩!C5:E14,3,0) -> 81.71 | H9: =ROUND(F9*0.2+G9*0.8,2) -> 77.97 | I9: △
A10: 8 | D10: 康*程 | E10: 2410 | F10: 72 | G10: =VLOOKUP(D10,[1]面试成绩!C4:E13,3,0) -> 69.43 | H10: =ROUND(F10*0.2+G10*0.8,2) -> 69.94
A11: 9 | D11: 薛*瑾 | E11: 1326 | F11: 57 | G11: =VLOOKUP(D11,[1]面试成绩!C7:E16,3,0) -> 71.86 | H11: =ROUND(F11*0.2+G11*0.8,2) -> 68.89
A12: 10 | D12: 秦*韵 | E12: 1648 | F12: 57 | G12: =VLOOKUP(D12,[1]面试成绩!C6:E15,3,0) -> 70.14 | H12: =ROUND(F12*0.2+G12*0.8,2) -> 67.51
A13: 11 | D13: 罗*博 | E13: 3547 | F13: 50
A14: 12 | D14: 燕* | E14: 6757 | F14: 49
A15: 13 | D15: 俞*鹏 | E15: 0018 | F15: 41
A16: 14 | D16: 张* | E16: 3910 | F16: 39
A17: 15 | D17: 曹*菁 | E17: 5043 | F17: 47
A18: 16 | C18: 民宿运营经理 | D18: 王* | E18: 1026 | F18: 50 | G18: =VLOOKUP(D18,[1]面试成绩!C10:E12,3,0) -> 78.29 | H18: =ROUND(F18*0.2+G18*0.8,2) -> 72.63 | I18: △
A19: 17 | D19: 孙* | E19: 7880 | F19: 61 | G19: =VLOOKUP(D19,[1]面试成绩!C8:E10,3,0) -> 74.14 | H19: =ROUND(F19*0.2+G19*0.8,2) -> 71.51
A20: 18 | D20: 程* | E20: 4654 | F20: 50 | G20: =VLOOKUP(D20,[1]面试成绩!C9:E11,3,0) -> 70 | H20: =ROUND(F20*0.2+G20*0.8,2) -> 66
A21: 19 | D21: 丁* | E21: 1027 | F21: 缺考
A22: 20 | C22: 商品部专员 | D22: 张*阳 | E22: 0812 | F22: 62 | G22: 81 | H22: =(F22*20%)+(G22*80%) -> 77.2 | I22: △
A23: 21 | D23: 苏*枫 | E23: 0017 | F23: 42 | G23: 65 | H23: =(F23*20%)+(G23*80%) -> 60.4
A24: 22 | D24: 徐*帆 | E24: 0034 | F24: 34 | G24: 58 | H24: =(F24*20%)+(G24*80%) -> 53.2
A25: 23 | D25: 朱*晓 | E25: 6733 | F25: 29
A26: 24 | D26: 李*贤 | E26: 3821 | F26: 27
A27: 25 | D27: 陈*琳 | E27: 7010 | F27: 20
A28: 26 | D28: 黄*恒 | E28: 6412 | F28: 缺考
A29: 27 | C29: 园区安全员 | D29: 蒋*成 | E29: 5015 | F29: 78 | G29: 72 | H29: =(F29*20%)+(G29*80%) -> 73.2 | I29: △
A30: 28 | D30: 沈* | E30: 5016 | F30: 69 | G30: 68 | H30: =(F30*20%)+(G30*80%) -> 68.2
A31: 29 | D31: 顾*峰 | E31: 2150 | F31: 75 | G31: 62 | H31: =(F31*20%)+(G31*80%) -> 64.6
A32: 30 | D32: 张* | E32: 2140 | F32: 61
A33: 31 | D33: 王*龙 | E33: 0032 | F33: 51
A34: 32 | D34: 居*江 | E34: 213X | F34: 48
A35: 33 | D35: 肖*志 | E35: 5737 | F35: 缺考
A36: 34 | C36: 行政人事专员 | D36: 尹* | E36: 206X | F36: 60 | G36: 75 | H36: =(F36*20%)+(G36*80%) -> 72 | I36: △
A37: 35 | D37: 王*楷 | E37: 241X | F37: 67 | G37: 60 | H37: =(F37*20%)+(G37*80%) -> 61.4
A38: 36 | D38: 付* | E38: 3613 | F38: 58 | G38: 55 | H38: =(F38*20%)+(G38*80%) -> 55.6
A39: 37 | D39: 陈*菲 | E39: 0828 | F39: 56
A40: 38 | D40: 刘*琪 | E40: 4342 | F40: 50
A41: 39 | D41: 华* | E41: 2728 | F41: 46
A42: 40 | D42: 杜* | E42: 2129 | F42: 32
A43: 41 | D43: 凌*华 | E43: 1012 | F43: 缺考
A44: 42 | D44: 刘*遥 | E44: 1525 | F44: 缺考
A45: 43 | D45: 施* | E45: 2129 | F45: 缺考
A46: 44 | D46: 王* | E46: 5025 | F46: 缺考
A47: 45 | D47: 张*琴 | E47: 6920 | F47: 缺考
A48: 46 | D48: 周* | E48: 5044 | F48: 缺考
A49: 47 | C49: 平面设计 | D49: 高*萱 | E49: 0026 | F49: 69 | G49: 76 | H49: =(F49*20%)+(G49*80%) -> 74.6 | I49: △
A50: 48 | D50: 徐*怡 | E50: 5028 | F50: 65 | G50: 73 | H50: =(F50*20%)+(G50*80%) -> 71.4
A51: 49 | D51: 李*秋 | E51: 0624 | F51: 65 | G51: 70 | H51: =(F51*20%)+(G51*80%) -> 69
A52: 50 | D52: 桂*苗 | E52: 1244 | F52: 67 | G52: 缺考
A53: 51 | D53: 陈*杰 | E53: 6411 | F53: 43
A54: 52 | D54: 周*辉 | E54: 5911 | F54: 缺考
A55: 53 | D55: 游* | E55: 201X | F55: 缺考
A56: 54 | C56: 营地管理员 | D56: 周* | E56: 1024 | F56: 69 | G56: 73 | H56: =(F56*20%)+(G56*80%) -> 72.2 | I56: △
A57: 55 | D57: 丁*薇 | E57: 0048 | F57: 76 | G57: 71 | H57: =(F57*20%)+(G57*80%) -> 72 | I57: △
A58: 56 | D58: 李*菲 | E58: 3522 | F58: 65 | G58: 70 | H58: =(F58*20%)+(G58*80%) -> 69
A59: 57 | D59: 沈*妍 | E59: 3921 | F59: 66 | G59: 69 | H59: =(F59*20%)+(G59*80%) -> 68.4
A60: 58 | D60: 葛* | E60: 5648 | F60: 64 | G60: 60 | H60: =(F60*20%)+(G60*80%) -> 60.8
A61: 59 | D61: 钱*能 | E61: 212X | F61: 62 | G61: 缺考
A62: 60 | D62: 叶*欣 | E62: 6122 | F62: 60
A63: 61 | D63: 周*超 | E63: 7314 | F63: 60
A64: 62 | D64: 潘*仪 | E64: 7628 | F64: 56
A65: 63 | D65: 李*磊 | E65: 6411 | F65: 52
A66: 64 | D66: 王*宇 | E66: 0037 | F66: 52
A67: 65 | D67: 周* | E67: 0068 | F67: 50
A68: 66 | D68: 王*婷 | E68: 5026 | F68: 44
A69: 67 | D69: 马*伟 | E69: 1613 | F69: 40
A70: 68 | D70: 顾*红 | E70: 6722 | F70: 33
A71: 69 | D71: 陆*舟 | E71: 3537 | F71: 缺考
A72: 70 | D72: 申*珊 | E72: 1823 | F72: 缺考
A73: 71 | D73: 王*淇 | E73: 3535 | F73: 缺考
A74: 72 | D74: 杨* | E74: 0727 | F74: 缺考
A75: 73 | D75: 张* | E75: 4238 | F75: 缺考
