Workbook

Sheet 定向
A1: 附件2
A2: 2022年从优秀村（社区）干部、优秀工人农民、服务基层 项目人员中考试录用公务员（参照管理工作人员） 拟录用人员名单
A3: 序号 | B3: 职位编码 | C3: 姓名 | D3: 性别 | E3: 准考证号 | F3: 毕业院校 | G3: 专业 | H3: 总成绩 | I3: 排名
A4: 1 | B4: 33200001 | C4: 蒋科桥 | D4: 男 | E4: 4031200101126 | F4: =VLOOKUP(C4,[1]排名原始公招!$A:$J,7,0) -> 四川大学锦城学院 | G4: =VLOOKUP(C4,[1]排名原始公招!$A:$J,8,0) -> 土木工程 | H4: 78.9 | I4: 1
A5: 2 | B5: 33200001 | C5: 陈勇 | D5: 男 | E5: 4031200100911 | F5: =VLOOKUP(C5,[1]排名原始公招!$A:$J,7,0) -> 西南石油大学 | G5: =VLOOKUP(C5,[1]排名原始公招!$A:$J,8,0) -> 资源勘查工程 | H5: 76.75 | I5: 2
A6: 3 | B6: 33200001 | C6: 范颖超 | D6: 男 | E6: 4031200101024 | F6: =VLOOKUP(C6,[1]排名原始公招!$A:$J,7,0) -> 南京政治学院 | G6: =VLOOKUP(C6,[1]排名原始公招!$A:$J,8,0) -> 经济与行政管理 | H6: 75.8 | I6: 3
A7: 4 | B7: 33200001 | C7: 刘洋 | D7: 男 | E7: 4031200100111 | F7: =VLOOKUP(C7,[1]排名原始公招!$A:$J,7,0) -> 四川农业大学 | G7: =VLOOKUP(C7,[1]排名原始公招!$A:$J,8,0) -> 植物保护 | H7: 74.2 | I7: 4
A8: 5 | B8: 33200001 | C8: 蒋华 | D8: 男 | E8: 4031200101628 | F8: =VLOOKUP(C8,[1]排名原始公招!$A:$J,7,0) -> 西昌学院 | G8: =VLOOKUP(C8,[1]排名原始公招!$A:$J,8,0) -> 工商管理 | H8: 73.95 | I8: 5
A9: 6 | B9: 33200001 | C9: 肖晗 | D9: 男 | E9: 4031200101420 | F9: =VLOOKUP(C9,[1]排名原始公招!$A:$J,7,0) -> 四川大学 | G9: =VLOOKUP(C9,[1]排名原始公招!$A:$J,8,0) -> 舞蹈学 | H9: 73.35 | I9: 6
A10: 7 | B10: 33200001 | C10: 艾幼 | D10: 女 | E10: 4031200101724 | F10: =VLOOKUP(C10,[1]排名原始公招!$A:$J,7,0) -> 成都理工大学广播影视学院 | G10: =VLOOKUP(C10,[1]排名原始公招!$A:$J,8,0) -> 传播学 | H10: 72.95 | I10: 7
A11: 8 | B11: 33200002 | C11: 李国锐 | D11: 男 | E11: 4031200100723 | F11: =VLOOKUP(C11,[1]排名原始公招!$A:$J,7,0) -> 西华大学 | G11: =VLOOKUP(C11,[1]排名原始公招!$A:$J,8,0) -> 土木工程 | H11: 78.95 | I11: 1
A12: 9 | B12: 33200003 | C12: 辜勤 | D12: 女 | E12: 4031200100619 | F12: =VLOOKUP(C12,[1]排名原始公招!$A:$J,7,0) -> 西华大学 | G12: =VLOOKUP(C12,[1]排名原始公招!$A:$J,8,0) -> 英语教育 | H12: 78.8 | I12: 1
A13: 10 | B13: 33200004 | C13: 叶龙飞 | D13: 男 | E13: 4031200100520 | F13: =VLOOKUP(C13,[1]排名原始公招!$A:$J,7,0) -> 四川大学 | G13: =VLOOKUP(C13,[1]排名原始公招!$A:$J,8,0) -> 测控技术与仪器 | H13: 80.35 | I13: 1
A14: 11 | B14: 33200005 | C14: 陈芝吟 | D14: 女 | E14: 4031200100323 | F14: =VLOOKUP(C14,[1]排名原始公招!$A:$J,7,0) -> 四川农业大学 | G14: =VLOOKUP(C14,[1]排名原始公招!$A:$J,8,0) -> 环境科学 | H14: 82.6 | I14: 1
A15: 12 | B15: 33200005 | C15: 李瑞 | D15: 女 | E15: 4031200101524 | F15: =VLOOKUP(C15,[1]排名原始公招!$A:$J,7,0) -> 四川工商学院 | G15: =VLOOKUP(C15,[1]排名原始公招!$A:$J,8,0) -> 会计学 | H15: 78.8 | I15: 2
A16: 13 | B16: 33200005 | C16: 刘春利 | D16: 女 | E16: 4031200101514 | F16: =VLOOKUP(C16,[1]排名原始公招!$A:$J,7,0) -> 四川外国语大学成都学院 | G16: =VLOOKUP(C16,[1]排名原始公招!$A:$J,8,0) -> 英语 | H16: 77.65 | I16: 3
A17: 14 | B17: 33200006 | C17: 袁恬 | D17: 女 | E17: 4031200101629 | F17: =VLOOKUP(C17,[1]排名原始公招!$A:$J,7,0) -> 四川农业大学 | G17: =VLOOKUP(C17,[1]排名原始公招!$A:$J,8,0) -> 社会工作 | H17: 77.95 | I17: 1
A18: 15 | B18: 33200007 | C18: 曹美慧 | D18: 女 | E18: 4031200101602 | F18: =VLOOKUP(C18,[1]排名原始公招!$A:$J,7,0) -> 绵阳师范学院 | G18: =VLOOKUP(C18,[1]排名原始公招!$A:$J,8,0) -> 旅游管理 | H18: 79 | I18: 1
A19: 16 | B19: 33200008 | C19: 徐洲 | D19: 男 | E19: 4031200100210 | F19: =VLOOKUP(C19,[1]排名原始公招!$A:$J,7,0) -> 成都理工大学 | G19: =VLOOKUP(C19,[1]排名原始公招!$A:$J,8,0) -> 机械工程 | H19: 80.95 | I19: 1
A20: 17 | B20: 33200009 | C20: 李亚林 | D20: 男 | E20: 4031200101424 | F20: =VLOOKUP(C20,[1]排名原始公招!$A:$J,7,0) -> 成都理工大学工程技术学院 | G20: =VLOOKUP(C20,[1]排名原始公招!$A:$J,8,0) -> 自动化 | H20: 81.51 | I20: 1
A21: 18 | B21: 33200009 | C21: 李志恒 | D21: 男 | E21: 4031200101324 | F21: =VLOOKUP(C21,[1]排名原始公招!$A:$J,7,0) -> 成都工业学院 | G21: =VLOOKUP(C21,[1]排名原始公招!$A:$J,8,0) -> 物流管理 | H21: 79.65 | I21: 2
A22: 19 | B22: 33200009 | C22: 罗瑞峰 | D22: 男 | E22: 4031200101604 | F22: =VLOOKUP(C22,[1]排名原始公招!$A:$J,7,0) -> 西华大学 | G22: =VLOOKUP(C22,[1]排名原始公招!$A:$J,8,0) -> 物联网工程 | H22: 79.19 | I22: 3
... A38: 35 | B38: 33200015 | C38: 袁佳鑫 | D38: 男 | E38: 4031200101419 | F38: =VLOOKUP(C38,[1]排名原始公招!$A:$J,7,0) -> 四川旅游学院 | G38: =VLOOKUP(C38,[1]排名原始公招!$A:$J,8,0) -> 酒店管理 | H38: 79.1 | I38: 1
