Workbook

Sheet 入围体检人员
A1: 入围体检人员名单
A2: 准考证号 | B2: 姓名 | C2: 报考单位 | D2: 报考岗位
A3: 7041905010714 | B3: =VLOOKUP(A3,[1]面试成绩!$B:$C,2,0) -> 陈英学 | C3: 金阳县乡镇小学校 | D3: 小学数学教师
A4: 7041905010917 | B4: =VLOOKUP(A4,[1]面试成绩!$B:$C,2,0) -> 孙子木只阿木 | C4: 金阳县乡镇小学校 | D4: 小学数学教师
A5: 7041905010719 | B5: =VLOOKUP(A5,[1]面试成绩!$B:$C,2,0) -> 廖福坤 | C5: 金阳县乡镇小学校 | D5: 小学数学教师
A6: 7041905010816 | B6: =VLOOKUP(A6,[1]面试成绩!$B:$C,2,0) -> 贾巴牛博 | C6: 金阳县乡镇小学校 | D6: 小学数学教师
A7: 7041905010708 | B7: =VLOOKUP(A7,[1]面试成绩!$B:$C,2,0) -> 贾琳琳 | C7: 金阳县乡镇小学校 | D7: 小学数学教师
A8: 7041905010822 | B8: =VLOOKUP(A8,[1]面试成绩!$B:$C,2,0) -> 张海华 | C8: 金阳县乡镇小学校 | D8: 小学数学教师
A9: 7041905010813 | B9: =VLOOKUP(A9,[1]面试成绩!$B:$C,2,0) -> 吉史木日 | C9: 金阳县乡镇小学校 | D9: 小学数学教师
A10: 7041905010925 | B10: =VLOOKUP(A10,[1]面试成绩!$B:$C,2,0) -> 且沙日博 | C10: 金阳县乡镇小学校 | D10: 小学数学教师
A11: 7041905010927 | B11: =VLOOKUP(A11,[1]面试成绩!$B:$C,2,0) -> 卢比史 | C11: 金阳县乡镇小学校 | D11: 小学数学教师
A12: 7041905010704 | B12: =VLOOKUP(A12,[1]面试成绩!$B:$C,2,0) -> 吉鲁惹古 | C12: 金阳县乡镇小学校 | D12: 小学数学教师
A13: 7041905011013 | B13: =VLOOKUP(A13,[1]面试成绩!$B:$C,2,0) -> 邵家荣 | C13: 金阳县乡镇小学校 | D13: 小学英语教师
A14: 7041905011012 | B14: =VLOOKUP(A14,[1]面试成绩!$B:$C,2,0) -> 曲么只则 | C14: 金阳县乡镇小学校 | D14: 小学英语教师
... A42: 7041905011930 | B42: =VLOOKUP(A42,[1]面试成绩!$B:$C,2,0) -> 周凭 | C42: 金阳县乡镇幼儿园 | D42: 幼儿教师
