Workbook

Sheet 岗位
A1: 2020年度代课教师招聘学校分组及岗位表（样表）
A2: 岗位代码 | B2: 岗位名称 | C2: 学段 | D2: 招聘数量 | E2: 学历学位要求 | F2: 专业要求 | G2: 服务单位 | H2: 地址
A3: 1-1 | B3: 幼儿园教师 | C3: 幼儿园 | E3: 全日制普通高等学校专科及以上毕业生 | F3: 学前教育专业、学前教育方向的艺术类专业
A4: 1-2 | B4: 幼儿园教师 | C4: 幼儿园 | E4: 全日制普通高等学校专科及以上毕业生 | F4: 学前教育专业、学前教育方向的艺术类专业
A5: 1-3 | B5: 幼儿园教师 | C5: 幼儿园 | E5: 全日制普通高等学校专科及以上毕业生 | F5: 学前教育专业、学前教育方向的艺术类专业
A6: 1-4 | B6: 幼儿园教师 | C6: 幼儿园 | E6: 全日制普通高等学校专科及以上毕业生 | F6: 学前教育专业、学前教育方向的艺术类专业
A7: 1-5 | B7: 幼儿园教师 | C7: 幼儿园 | E7: 全日制普通高等学校专科及以上毕业生 | F7: 学前教育专业、学前教育方向的艺术类专业
A8: 2-1 | B8: 数学教师 | C8: 小学 | E8: 全日制普通高校本科及以上学历学位 | F8: 数学类
A9: 2-2 | B9: 语文教师 | C9: 小学 | E9: 全日制普通高校本科及以上学历学位 | F9: 中国语言文学类；政治类；历史类；地理类、教育学类；心理学类
A10: 2-3 | B10: 英语教师 | C10: 小学 | E10: 全日制普通高校本科及以上学历学位 | F10: 英语类
A11: 2-4 | B11: 体育教师 | C11: 小学 | E11: 全日制普通高校本科及以上学历学位 | F11: 体育类
A12: 2-5 | B12: 美术教师 | C12: 小学 | E12: 全日制普通高校本科及以上学历学位 | F12: 美术学类
A13: 3-1 | B13: 语文教师 | C13: 中学 | E13: 全日制普通高校本科及以上学历学位 | F13: 中国语言文学类；政治类；历史类；地理类、教育学类；心理学类
A14: 3-2 | B14: 化学教师 | C14: 中学 | E14: 全日制普通高校本科及以上学历学位 | F14: 化学类
... A17: 3-5 | B17: 音乐教师 | C17: 中学 | E17: 全日制普通高校本科及以上学历学位 | F17: 音乐类

Sheet Sheet1
A1: 2020年度昆山高新区社会化用工招聘岗位表
A2: 岗位名称 | B2: 招聘数量 | C2: 性别 | D2: 年龄 | E2: 学历 | F2: 专业 | G2: 其他 | H2: 招聘单位与岗位数量 | I2: 其他说明
A3: 帮厨 | B3: 4 | C3: 男性 | D3: 55周岁以下 | E3: 初中以上 | G3: 有食堂相关工作经验者优先 | H3: 昆山市玉山镇第一中心小学2 昆山高新区前进幼儿园1 昆山高新区西塘实验小学1 | I3: 昆山户籍
B4: 23 | C4: 不限 | D4: 男性55周岁以下 女性45周岁以下 | E4: 初中以上 | G4: 有食堂相关工作经验者优先 | H4: 昆山高新区鹿城幼儿园2 昆山市高新区九方城幼儿园3 昆山高新区青淞幼儿园1 昆山高新区西塘幼儿园（虹祺园区）1 昆山高新区阳澄湖科技园幼儿园1 昆山市培本实验小学东校区1 昆山市培本实验小学西校区4 昆山高新区西塘实验小学1 昆山市玉山镇朝阳小学1 昆山高新区玉湖小学1 昆山高新区美陆小学1 昆山高新区南星渎小学1 昆山高新区紫竹小学1 昆山高新区吴淞江学校2 昆山高新区南星渎中学1 昆山市玉山镇城中幼儿园共青分园1 | I4: 昆山户籍
A5: 厨师 | B5: 1 | C5: 男性 | D5: 55周岁以下 | E5: 初中以上 | F5: 有厨师技术岗位证书 | G5: 有食堂相关工作经验者优先 | H5: 昆山高新区姜巷小学1 | I5: 昆山户籍
B6: 4 | C6: 不限 | D6: 男性55周岁以下 女性45周岁以下 | E6: 初中以上 | F6: 有厨师技术岗位证书 | G6: 有食堂相关工作经验者优先 | H6: 昆山市培本实验小学西校区1 昆山高新区南星渎小学1 昆山高新区南星渎中学1 昆山市玉山镇新城域小学1 | I6: 昆山户籍
A7: 会计 | B7: 1 | C7: 不限 | D7: 40周岁以下 | E7: 全日制大专以上 | F7: 持有会计资格证 | H7: 昆山市玉山镇振华实验小学1 | I7: 昆山户籍
A8: 保育员 | B8: 30 | C8: 女性 | D8: 45周岁以下 | E8: 高中以上 | G8: 有保育员 证及相关工作经验者优先 | H8: 昆山市玉山镇北珊湾幼儿园1 昆山高新区鹿城幼儿园9 昆山高新区前进幼儿园1 昆山市玉山镇朝阳幼儿园1 昆山高新区茗景苑幼儿园1 昆山市城北富士康幼儿园1 昆山高新区紫竹幼儿园1 昆山高新区九方城幼儿园4 昆山高新区青淞幼儿园1 昆山高新区西塘幼儿园（虹祺园区）2 昆山高新区阳澄湖科技园幼儿园3 昆山高新区振华实验幼儿园2 昆山市玉山镇司徒街小学附属幼儿园3 | I8: 昆山户籍
A9: 校医 | B9: 20 | C9: 不限 | D9: 45周岁以下 | E9: 全日制大专以上 | F9: 医学类（含临床、预防、护理） | G9: 持执业医师资格证、护士执业证书 | H9: 昆山高新区鹿城幼儿园2 昆山高新区前进幼儿园1 昆山市城北富士康幼儿园1 昆山高新区九方城幼儿园2 昆山高新区城北幼儿园1 昆山高新区青淞幼儿园1 昆山高新区西塘幼儿园（虹祺园区）1 昆山高新区阳澄湖科技园幼儿园1 昆山市培本实验小学东校区1 昆山市培本实验小学西校区1 昆山市玉山镇朝阳小学1 昆山市玉山镇司徒街小学1 昆山市城北高科园中心小学1 昆山高新区南星渎小学1 昆山市玉山镇同心小学1 昆山高新区紫竹小学1 昆山市城北中学1 昆山市玉山镇童心幼儿园1 | I9: 昆山户籍
A10: 图书管理员 | B10: 1 | C10: 不限 | D10: 40周岁以下 | E10: 全日制大专以上 | G10: 图书管理专业优先 | H10: 昆山市培本实验小学西校区1 | I10: 昆山户籍

Sheet Sheet2

Sheet 第二批人数统计
A1: 序号 | B1: 学校 | C1: 学段 | D1: 第一次招录数 | E1: 原代课留用数 | F1: 批一批未招满人数 | G1: 第二批计划招聘数 | H1: 第二批实招人数 （第一批未招满+第二批计划） | I1: 学校上报数
A2: 1 | B2: 昆山开发区蓬朗幼儿园 | C2: 幼儿园 | G2: 8 | H2: =F2+G2 -> 8 | I2: =SUMIF(第二批分学科!B:B,B2,第二批分学科!E:E)-H2 -> 0
A3: 2 | B3: 昆山开发区石予幼儿园 | C3: 幼儿园 | D3: 2 | E3: 3 | F3: 2 | G3: 6 | H3: =F3+G3 -> 8 | I3: =SUMIF(第二批分学科!B:B,B3,第二批分学科!E:E)-H3 -> 0
A4: 3 | B4: 昆山经济技术开发区世茂幼儿园 | C4: 幼儿园 | D4: 17 | F4: 8 | G4: 4 | H4: =F4+G4 -> 12 | I4: =SUMIF(第二批分学科!B:B,B4,第二批分学科!E:E)-H4 -> 0
A5: 4 | B5: 昆山开发区东部新城幼儿园 | C5: 幼儿园 | D5: 3 | F5: 1 | G5: 2 | H5: =F5+G5 -> 3 | I5: =SUMIF(第二批分学科!B:B,B5,第二批分学科!E:E)-H5 -> 0
A6: 5 | B6: 昆山开发区夏驾幼儿园 | C6: 幼儿园 | D6: 5 | F6: 4 | H6: =F6+G6 -> 4 | I6: =SUMIF(第二批分学科!B:B,B6,第二批分学科!E:E)-H6 -> 0
A7: 6 | B7: 昆山开发区绿地幼儿园 | C7: 幼儿园 | D7: 3 | F7: 1 | G7: 1 | H7: =F7+G7 -> 2 | I7: =SUMIF(第二批分学科!B:B,B7,第二批分学科!E:E)-H7 -> 0
A8: 7 | B8: 昆山开发区兵希幼儿园 | C8: 幼儿园 | D8: 18 | E8: 3 | H8: =F8+G8 -> 0 | I8: =SUMIF(第二批分学科!B:B,B8,第二批分学科!E:E)-H8 -> 0
A9: 8 | B9: 昆山开发区盛庄幼儿园 | C9: 幼儿园 | D9: 6 | F9: 5 | H9: =F9+G9 -> 5 | I9: =SUMIF(第二批分学科!B:B,B9,第二批分学科!E:E)-H9 -> 0
A10: 9 | B10: 昆山经济技术开发区锦华幼儿园 | C10: 幼儿园 | D10: 6 | G10: 4 | H10: =F10+G10 -> 4 | I10: =SUMIF(第二批分学科!B:B,B10,第二批分学科!E:E)-H10 -> 0
A11: 10 | B11: 昆山开发区青阳港幼儿园 | C11: 幼儿园 | D11: 9 | H11: =F11+G11 -> 0 | I11: =SUMIF(第二批分学科!B:B,B11,第二批分学科!E:E)-H11 -> 0
A12: 11 | B12: 昆山市绣衣幼儿园 | C12: 幼儿园 | D12: 3 | G12: 3 | H12: =F12+G12 -> 3 | I12: =SUMIF(第二批分学科!B:B,B12,第二批分学科!E:E)-H12 -> 0
A13: 12 | B13: 昆山市西湾幼儿园 | C13: 幼儿园 | D13: 1 | F13: 1 | H13: =F13+G13 -> 1 | I13: =SUMIF(第二批分学科!B:B,B13,第二批分学科!E:E)-H13 -> 0
A14: 13 | B14: 昆山市玉山镇第三中心小学校附属幼儿园 | C14: 幼儿园 | E14: 4 | G14: 1 | H14: =F14+G14 -> 1 | I14: =SUMIF(第二批分学科!B:B,B14,第二批分学科!E:E)-H14 -> 0
A15: 14 | B15: 昆山开发区蝶湖湾幼儿园 | C15: 幼儿园 | D15: 3 | H15: =F15+G15 -> 0 | I15: =SUMIF(第二批分学科!B:B,B15,第二批分学科!E:E)-H15 -> 0
C16: 幼儿园 汇总 | D16: =SUBTOTAL(9,D2:D15) -> 76 | E16: =SUBTOTAL(9,E2:E15) -> 10 | F16: =SUBTOTAL(9,F2:F15) -> 22 | G16: =SUBTOTAL(9,G2:G15) -> 29 | H16: =SUBTOTAL(9,H2:H15) -> 51
A17: 15 | B17: 昆山市蓬朗中心小学校 | C17: 小学 | D17: 1 | G17: 6 | H17: =F17+G17 -> 6 | I17: =SUMIF(第二批分学科!B:B,B17,第二批分学科!E:E)-H17 -> 0
A18: 16 | B18: 昆山开发区石予小学 | C18: 小学 | E18: 7 | G18: 4 | H18: =F18+G18 -> 4 | I18: =SUMIF(第二批分学科!B:B,B18,第二批分学科!E:E)-H18 -> 0
A19: 17 | B19: 昆山开发区晨曦小学 | C19: 小学 | D19: 1 | G19: 1 | H19: =F19+G19 -> 1 | I19: =SUMIF(第二批分学科!B:B,B19,第二批分学科!E:E)-H19 -> 0
A20: 18 | B20: 昆山开发区兵希小学 | C20: 小学 | D20: 3 | E20: 10 | G20: 9 | H20: =F20+G20 -> 9 | I20: =SUMIF(第二批分学科!B:B,B20,第二批分学科!E:E)-H20 -> 0
A21: 19 | B21: 昆山经济技术开发区世茂小学 | C21: 小学 | E21: 2 | G21: 10 | H21: =F21+G21 -> 10 | I21: =SUMIF(第二批分学科!B:B,B21,第二批分学科!E:E)-H21 -> 0
A22: 20 | B22: 昆山经济技术开发区包桥小学 | C22: 小学 | D22: 6 | E22: 2 | G22: 4 | H22: =F22+G22 -> 4 | I22: =SUMIF(第二批分学科!B:B,B22,第二批分学科!E:E)-H22 -> 0
A23: 21 | B23: 昆山开发区震川小学 | C23: 小学 | E23: 3 | G23: 3 | H23: =F23+G23 -> 3 | I23: =SUMIF(第二批分学科!B:B,B23,第二批分学科!E:E)-H23 -> 0
A24: 22 | B24: 昆山经济技术开发区中华园小学 | C24: 小学 | D24: 3 | E24: 11 | G24: 4 | H24: =F24+G24 -> 4 | I24: =SUMIF(第二批分学科!B:B,B24,第二批分学科!E:E)-H24 -> 0
A25: 23 | B25: 昆山开发区世茂蝶湖湾小学 | C25: 小学 | E25: 8 | G25: 2 | H25: =F25+G25 -> 2 | I25: =SUMIF(第二批分学科!B:B,B25,第二批分学科!E:E)-H25 -> 0
A26: 24 | B26: 昆山经济技术开发区实验小学 | C26: 小学 | D26: 2 | G26: 8 | H26: =F26+G26 -> 8 | I26: =SUMIF(第二批分学科!B:B,B26,第二批分学科!E:E)-H26 -> 0
A27: 25 | B27: 昆山市玉山镇第三中心小学校 | C27: 小学 | E27: 2 | G27: 3 | H27: =F27+G27 -> 3 | I27: =SUMIF(第二批分学科!B:B,B27,第二批分学科!E:E)-H27 -> 0
A28: 26 | B28: 昆山开发区青阳港学校（小学部） | C28: 小学 | H28: =F28+G28 -> 0 | I28: =SUMIF(第二批分学科!B:B,B28,第二批分学科!E:E)-H28 -> 0
C29: 小学 汇总 | D29: =SUBTOTAL(9,D17:D28) -> 16 | E29: =SUBTOTAL(9,E17:E28) -> 45 | F29: =SUBTOTAL(9,F17:F28) -> 0 | G29: =SUBTOTAL(9,G17:G28) -> 54 | H29: =SUBTOTAL(9,H17:H28) -> 54
A30: 27 | B30: 昆山市蓬朗中学 | C30: 初中 | D30: 6 | F30: 2 | G30: 1 | H30: =F30+G30 -> 3 | I30: =SUMIF(第二批分学科!B:B,B30,第二批分学科!E:E)-H30 -> 0
A31: 28 | B31: 昆山市兵希中学 | C31: 初中 | D31: 1 | H31: =F31+G31 -> 0 | I31: =SUMIF(第二批分学科!B:B,B31,第二批分学科!E:E)-H31 -> 0
A32: 29 | B32: 昆山开发区晨曦中学 | C32: 初中 | G32: 2 | H32: =F32+G32 -> 2 | I32: =SUMIF(第二批分学科!B:B,B32,第二批分学科!E:E)-H32 -> 0
A33: 30 | B33: 昆山市玉山中学 | C33: 初中 | D33: 6 | E33: 1 | H33: =F33+G33 -> 0 | I33: =SUMIF(第二批分学科!B:B,B33,第二批分学科!E:E)-H33 -> 0
A34: 31 | B34: 昆山开发区青阳港学校（初中部） | C34: 初中 | D34: 2 | G34: 4 | H34: =F34+G34 -> 4 | I34: =SUMIF(第二批分学科!B:B,B34,第二批分学科!E:E)-H34 -> 0
C35: 初中 汇总 | D35: =SUBTOTAL(9,D30:D34) -> 15 | E35: =SUBTOTAL(9,E30:E34) -> 1 | F35: =SUBTOTAL(9,F30:F34) -> 2 | G35: =SUBTOTAL(9,G30:G34) -> 7 | H35: =SUBTOTAL(9,H30:H34) -> 9
C36: 总计 | D36: =SUBTOTAL(9,D2:D34) -> 107 | E36: =SUBTOTAL(9,E2:E34) -> 56 | F36: =SUBTOTAL(9,F2:F34) -> 24 | G36: =SUBTOTAL(9,G2:G34) -> 90 | H36: =SUBTOTAL(9,H2:H34) -> 114

Sheet 第二批分学科
A1: 序号 | B1: 学校 | C1: 学段 | D1: 学科 | E1: 人数
A2: 7 | B2: 昆山经济技术开发区锦华幼儿园 | C2: 幼儿园 | D2: 幼儿园 | E2: 4
A3: 11 | B3: 昆山经济技术开发区世茂幼儿园 | C3: 幼儿园 | D3: 幼儿园 | E3: 12
A4: 3 | B4: 昆山开发区东部新城幼儿园 | C4: 幼儿园 | D4: 幼儿园 | E4: 3
A5: 4 | B5: 昆山开发区绿地幼儿园 | C5: 幼儿园 | D5: 幼儿园 | E5: 2
A6: 9 | B6: 昆山开发区蓬朗幼儿园 | C6: 幼儿园 | D6: 幼儿园 | E6: 8
A7: 8 | B7: 昆山开发区盛庄幼儿园 | C7: 幼儿园 | D7: 幼儿园 | E7: 5
A8: 10 | B8: 昆山开发区石予幼儿园 | C8: 幼儿园 | D8: 幼儿园 | E8: 8
A9: 6 | B9: 昆山开发区夏驾幼儿园 | C9: 幼儿园 | D9: 幼儿园 | E9: 4
A10: 1 | B10: 昆山市西湾幼儿园 | C10: 幼儿园 | D10: 幼儿园 | E10: 1
A11: 5 | B11: 昆山市绣衣幼儿园 | C11: 幼儿园 | D11: 幼儿园 | E11: 3
A12: 2 | B12: 昆山市玉山镇第三中心小学校附属幼儿园 | C12: 幼儿园 | D12: 幼儿园 | E12: 1
A13: 14 | B13: 昆山经济技术开发区包桥小学 | C13: 小学 | D13: 数学 | E13: 1
... A51: 44 | B51: 昆山市蓬朗中学 | C51: 初中 | D51: 语文 | E51: 1
E52: =SUM(E2:E51) -> 114

Sheet 学校分学科上报
A1: 学校 | B1: 学科（请填全称） | C1: 人数
A2: 昆山市蓬朗中学 | B2: 英语 | C2: 1
A3: 昆山市蓬朗中学 | B3: 音乐 | C3: 1
A4: 昆山市蓬朗中学 | B4: 语文 | C4: 1
A5: 昆山市玉山镇第三中心小学校 | B5: 英语 | C5: 1
A6: 昆山市玉山镇第三中心小学校 | B6: 语文 | C6: 2
A7: 昆山经济技术开发区中华园小学 | B7: 体育 | C7: 2
A8: 昆山经济技术开发区中华园小学 | B8: 数学 | C8: 2
A9: 昆山经济技术开发区包桥小学 | B9: 体育 | C9: 2
A10: 昆山经济技术开发区包桥小学 | B10: 音乐 | C10: 1
A11: 昆山经济技术开发区包桥小学 | B11: 数学 | C11: 1
A12: 昆山经济技术开发区实验小学 | B12: 美术 | C12: 1
A13: 昆山经济技术开发区实验小学 | B13: 音乐 | C13: 1
... A40: 昆山开发区震川小学 | B40: 音乐 | C40: 1
