Workbook

Sheet Sheet1
A1: 林西县事业单位招聘工作人员进入体检人员名单
A2: 姓名 | B2: 民族 | C2: 报考部门 | D2: 报考职位
A3: =[1]面试登分表!C3 -> 谢蕊 | B3: =[1]面试登分表!E3 -> 汉族 | C3: =[1]面试登分表!F3 -> 林西县博物馆 | D3: =[1]面试登分表!G3 -> 岗位1（应届和择业期）
A4: =[1]面试登分表!C6 -> 李春宇 | B4: =[1]面试登分表!E6 -> 汉族 | C4: =[1]面试登分表!F6 -> 林西县不动产登记中心 | D4: =[1]面试登分表!G6 -> 岗位1（应届和择业期）
A5: =[1]面试登分表!C10 -> 唐琨尧 | B5: =[1]面试登分表!E10 -> 汉族 | C5: =[1]面试登分表!F10 -> 林西县查干沐沦灌区管理局 | D5: =[1]面试登分表!G10 -> 岗位1（应届和择业期）
A6: =[1]面试登分表!C12 -> 乌亚罕 | B6: =[1]面试登分表!E12 -> 蒙古族 | C6: =[1]面试登分表!F12 -> 林西县产品质量计量检验检测所 | D6: =[1]面试登分表!G12 -> 岗位1（应届和择业期、蒙汉兼通）
A7: =[1]面试登分表!C15 -> 李慧影 | B7: =[1]面试登分表!E15 -> 汉族 | C7: =[1]面试登分表!F15 -> 林西县产品质量计量检验检测所 | D7: =[1]面试登分表!G15 -> 岗位2（项目生）
A8: =[1]面试登分表!C19 -> 刘明皓 | B8: =[1]面试登分表!E19 -> 蒙古族 | C8: =[1]面试登分表!F19 -> 林西县城建监察大队 | D8: =[1]面试登分表!G19 -> 岗位1
A9: =[1]面试登分表!C21 -> 张歌 | B9: =[1]面试登分表!E21 -> 汉族 | C9: =[1]面试登分表!F21 -> 林西县城南街道办事处综合服务中心 | D9: =[1]面试登分表!G21 -> 岗位1（项目生）
A10: =[1]面试登分表!C23 -> 李怡键 | B10: =[1]面试登分表!E23 -> 蒙古族 | C10: =[1]面试登分表!F23 -> 林西县城南街道办事处综合服务中心 | D10: =[1]面试登分表!G23 -> 岗位3（应届和择业期）
A11: =[1]面试登分表!C26 -> 董胡林 | B11: =[1]面试登分表!E26 -> 汉族 | C11: =[1]面试登分表!F26 -> 林西县城南街道办事处综合服务中心 | D11: =[1]面试登分表!G26 -> 岗位4
A12: =[1]面试登分表!C29 -> 鲍鑫磊 | B12: =[1]面试登分表!E29 -> 蒙古族 | C12: =[1]面试登分表!F29 -> 林西县城市管理综合执法局 | D12: =[1]面试登分表!G29 -> 岗位1
A13: =[1]面试登分表!C32 -> 苏雅拉其其格 | B13: =[1]面试登分表!E32 -> 蒙古族 | C13: =[1]面试登分表!F32 -> 林西县城市管理综合执法局 | D13: =[1]面试登分表!G32 -> 岗位2（蒙汉兼通）
A14: =[1]面试登分表!C33 -> 王思莹 | B14: =[1]面试登分表!E33 -> 汉族 | C14: =[1]面试登分表!F33 -> 林西县城市管理综合执法局 | D14: =[1]面试登分表!G33 -> 岗位3（应届和择业期）
A15: =[1]面试登分表!C37 -> 门斯乐 | B15: =[1]面试登分表!E37 -> 蒙古族 | C15: =[1]面试登分表!F37 -> 林西县畜牧工作站 | D15: =[1]面试登分表!G37 -> 岗位1（蒙汉兼通）
A16: =[1]面试登分表!C38 -> 王艳静 | B16: =[1]面试登分表!E38 -> 汉族 | C16: =[1]面试登分表!F38 -> 林西县大井镇敬老院 | D16: =[1]面试登分表!G38 -> 岗位1（项目生）
A17: =[1]面试登分表!C40 -> 刘洋 | B17: =[1]面试登分表!E40 -> 汉族 | C17: =[1]面试登分表!F40 -> 林西县大水波罗牧业开发管委会 | D17: =[1]面试登分表!G40 -> 岗位1（项目生）
A18: =[1]面试登分表!C41 -> 李鑫磊 | B18: =[1]面试登分表!E41 -> 汉族 | C18: =[1]面试登分表!F41 -> 林西县大水波罗牧业开发管委会 | D18: =[1]面试登分表!G41 -> 岗位2（应届和择业期）
A19: =[1]面试登分表!C44 -> #REF! | B19: =[1]面试登分表!E44 -> #REF! | C19: =[1]面试登分表!F44 -> #REF! | D19: =[1]面试登分表!G44 -> #REF!
A20: =[1]面试登分表!C45 -> #REF! | B20: =[1]面试登分表!E45 -> #REF! | C20: =[1]面试登分表!F45 -> #REF! | D20: =[1]面试登分表!G45 -> #REF!
A21: =[1]面试登分表!C46 -> #REF! | B21: =[1]面试登分表!E46 -> #REF! | C21: =[1]面试登分表!F46 -> #REF! | D21: =[1]面试登分表!G46 -> #REF!
A22: =[1]面试登分表!C47 -> #REF! | B22: =[1]面试登分表!E47 -> #REF! | C22: =[1]面试登分表!F47 -> #REF! | D22: =[1]面试登分表!G47 -> #REF!
A23: =[1]面试登分表!C48 -> #REF! | B23: =[1]面试登分表!E48 -> #REF! | C23: =[1]面试登分表!F48 -> #REF! | D23: =[1]面试登分表!G48 -> #REF!
A24: =[1]面试登分表!C49 -> #REF! | B24: =[1]面试登分表!E49 -> #REF! | C24: =[1]面试登分表!F49 -> #REF! | D24: =[1]面试登分表!G49 -> #REF!
A25: =[1]面试登分表!C50 -> #REF! | B25: =[1]面试登分表!E50 -> #REF! | C25: =[1]面试登分表!F50 -> #REF! | D25: =[1]面试登分表!G50 -> #REF!
A26: =[1]面试登分表!C51 -> #REF! | B26: =[1]面试登分表!E51 -> #REF! | C26: =[1]面试登分表!F51 -> #REF! | D26: =[1]面试登分表!G51 -> #REF!
A27: =[1]面试登分表!C52 -> #REF! | B27: =[1]面试登分表!E52 -> #REF! | C27: =[1]面试登分表!F52 -> #REF! | D27: =[1]面试登分表!G52 -> #REF!
A28: =[1]面试登分表!C53 -> #REF! | B28: =[1]面试登分表!E53 -> #REF! | C28: =[1]面试登分表!F53 -> #REF! | D28: =[1]面试登分表!G53 -> #REF!
A29: =[1]面试登分表!C54 -> #REF! | B29: =[1]面试登分表!E54 -> #REF! | C29: =[1]面试登分表!F54 -> #REF! | D29: =[1]面试登分表!G54 -> #REF!
A30: =[1]面试登分表!C55 -> #REF! | B30: =[1]面试登分表!E55 -> #REF! | C30: =[1]面试登分表!F55 -> #REF! | D30: =[1]面试登分表!G55 -> #REF!
... A57: =[1]面试登分表!C82 -> #REF! | B57: =[1]面试登分表!E82 -> #REF! | C57: =[1]面试登分表!F82 -> #REF! | D57: =[1]面试登分表!G82 -> #REF!
A58: 杜杰杰 | B58: 汉族 | C58: 林西县妇幼保健计生服务中心 | D58: 岗位2
A59: 付蕾 | B59: 蒙古族 | C59: 林西县公安监管场所服务中心 | D59: 岗位1（应届和择业期）
A60: 吴玲玲 | B60: 蒙古族 | C60: 林西县公安局综合办证服务中心 | D60: 岗位1
A61: 巴雅苏拉 | B61: 蒙古族 | C61: 林西县公安局综合办证服务中心 | D61: 岗位2（蒙汉兼通）
A62: 崔赢 | B62: 汉族 | C62: 林西县公安局综合办证服务中心 | D62: 岗位3
A63: 乌日拉嘎 | B63: 蒙古族 | C63: 林西县官地镇敬老院 | D63: 岗位1（应届和择业期、蒙汉兼通）
A64: 李磊 | B64: 其它民族 | C64: 林西县规划调查中心 | D64: 岗位1（项目生）
A65: 解佳伟 | B65: 其它民族 | C65: 林西县机关事务保障中心 | D65: 岗位1（应届和择业期）
A66: 刘阳 | B66: 汉族 | C66: 林西县机关事务保障中心 | D66: 岗位2（项目生）
A67: 郭美玥 | B67: 汉族 | C67: 林西县疾病预防控制中心 | D67: 岗位1
A68: 姜欣博 | B68: 汉族 | C68: 林西县劳动仲裁中心 | D68: 岗位1（应届和择业期）
A69: 任跃 | B69: 汉族 | C69: 林西县林业草原治沙管理站 | D69: 岗位1（项目生）
... A91: 刘梦轩 | B91: 汉族 | C91: 林西县业余体校 | D91: 岗位1

Sheet Sheet2

Sheet Sheet3
