Workbook

Sheet 报名表
A1: 附件2
A2: 广东省鹤山市2022年教师招聘（第一场）报名表
A4: 报考岗位名称： | G4: 岗位代码：
A5: 基本信息 | B5: 姓 名 | F5: 性 别 | H5: 民 族 | J5: （免冠寸照）
B6: 出生年月 | F6: 身份证号码
B7: 政治面貌 | F7: 婚姻状况 | H7: 健康状况
B8: 籍 贯 | G8: 户籍地
B9: 学 历 | F9: 学 位 | H9: 特 长
B10: 普通话等级 | F10: 教师资格 | G10: 获得年月 | H10: 初中/高中 | J10: 科目
B11: 外语水平
B12: 手机号码 | G12: 紧急联系人（电话）
B13: 家庭住址 | H13: 邮 箱
A14: 学历信息 | B14: 本科就读院校 | E14: 就读专业 | G14: 学位 | H14: 绩点 | I14: 是否全日制 | J14: 是否师范
B16: 研究生就读院校 | E16: 就读专业 | G16: 学位 | I16: 是否全日制 | J16: 是否师范
A18: 家庭、社会关系 | B18: 姓 名 | D18: 与本人关系 | F18: 工作单位及职务 | I18: 户籍所在地
A25: 学习、工作经历 | B25: 开始时间 | D25: 结束时间 | F25: 在何地、何单位学习或工作 (高中起填) | I25: 任何职位
A31: 志愿填报 | B31: 第一志愿： | H31: 第四志愿：
B32: 第二志愿： | H32: 第五志愿：
B33: 第三志愿：
A34: 个人荣誉情况（高中起填） | B34: 奖学金类（在每条获奖后用括号注明是否有佐证）：
B35: 1. 2. 3. 4. 5. 6. 7.
B36: 学科竞赛类（在每条获奖后用括号注明是否有佐证）：
B37: 1. 2. 3. 4. 5. 6. 7.
B38: 综合荣誉类（在每条荣誉后用括号注明是否有佐证）：
B39: 1. 2. 3. 4. 5. 6. 7.
B40: 班干任职情况（填本科阶段以来）（在每个任职后用括号注明是否有佐证）：
B41: 1. 2. 3. 4.
A42: 报名人员承诺 | B42: 1.本人承诺填报内容及提交的资料真实、准确，如有不实之处，愿意承担相应责任。 2.本人已知悉报考岗位分配到相关学校的规定，按自己的意愿填报了选择学校的志愿，服从组织分配。
B43: 报名人签名： | G43: 2022年 月 日
A44: 网上初审意见
B45: 审核人： | G45: 2022年 月 日
A46: 现场审核意见
B47: 审核人： | G47: 2022年 月 日
A48: 备注

Sheet sheet2
A1: 序号 | D1: 个人信息 | M1: 志愿 | R1: 研究生情况 | W1: 本科情况 | AC1: 个人荣誉 | AG1: 初审结果
B2: 科目 | C2: 岗位代码 | D2: 姓 名 | E2: 性别 | F2: 民族 | G2: 身份证号码 | H2: 政治面貌 | I2: 籍贯 | J2: 户籍地 | K2: 教师资格证 | L2: 联系电话 | M2: 报考志愿一 | N2: 报考志愿二 | O2: 报考志愿三 | P2: 报考志愿四 | Q2: 报考志愿五 | R2: 研究生毕业院校 | S2: 研究生所学专业 | T2: 研究生学位 | U2: 是否全日制 | V2: 是否师范 | W2: 本科毕业院校 | X2: 本科所学专业 | Y2: 本科学位 | Z2: 是否全日制 | AA2: 是否师范 | AB2: 本科学业绩点 | AC2: 奖学金情况 | AD2: 竞赛获奖 | AE2: 综合荣誉 | AF2: 干部任职情况 | AG2: 专业是否符合岗位需求
A3: 1 | B3: =报名表!D4 -> 0 | C3: =报名表!H4 -> 0 | D3: =报名表!D5 -> 0 | E3: =报名表!G5 -> 0 | F3: =报名表!I5 -> 0 | G3: =报名表!G6 -> 0 | H3: =报名表!D7 -> 0 | I3: =报名表!D8 -> 0 | J3: =报名表!H8 -> 0 | K3: =报名表!H11&报名表!J11 | L3: =报名表!D12 -> 0 | M3: =报名表!D31 -> 0 | N3: =报名表!D32 -> 0 | O3: =报名表!D33 -> 0 | P3: =报名表!I31 -> 0 | Q3: =报名表!I32 -> 0 | R3: =报名表!B17 -> 0 | S3: =报名表!E17 -> 0 | T3: =报名表!G17 -> 0 | U3: =报名表!I17 -> 0 | V3: =报名表!J17 -> 0 | W3: =报名表!B15 -> 0 | X3: =报名表!E15 -> 0 | Y3: =报名表!G15 -> 0 | Z3: =报名表!I15 -> 0 | AA3: =报名表!J15 -> 0 | AB3: =报名表!H15 -> 0 | AC3: =报名表!B35 -> 1. 2. 3. 4. 5. 6. 7. | AD3: =报名表!B37 -> 1. 2. 3. 4. 5. 6. 7. | AE3: =报名表!B39 -> 1. 2. 3. 4. 5. 6. 7. | AF3: =报名表!B41 -> 1. 2. 3. 4.
