Workbook

Sheet 2023年山亭区公开招聘中小学教师进入面试范围人员
A1: 2023年山亭区公开招聘中小学教师进入面试资格审查范围人员名单
A2: 序号 | B2: 姓名 | C2: 报考单位 | D2: 报考岗位名称 | E2: 报名序号 | F2: 笔试成绩
A4: 1 | B4: 王延大 | C4: 枣庄市第十八中学 | D4: 高中数学教师 | E4: =VLOOKUP(B4,[1]山亭中小学中职!$A$1:$C$65536,3,0) -> 01533 | F4: 60
A5: 2 | B5: 褚姝含 | C5: 枣庄市第十八中学 | D5: 高中数学教师 | E5: =VLOOKUP(B5,[1]山亭中小学中职!$A$1:$C$65536,3,0) -> 01578 | F5: 57.5
A6: 3 | B6: 李真 | C6: 枣庄市第十八中学 | D6: 高中数学教师 | E6: =VLOOKUP(B6,[1]山亭中小学中职!$A$1:$C$65536,3,0) -> 01023 | F6: 56.5
A7: 4 | B7: 石琼杨 | C7: 枣庄市第十八中学 | D7: 高中数学教师 | E7: =VLOOKUP(B7,[1]山亭中小学中职!$A$1:$C$65536,3,0) -> 01873 | F7: 53
A8: 5 | B8: 薛云 | C8: 枣庄市第十八中学 | D8: 高中数学教师 | E8: =VLOOKUP(B8,[1]山亭中小学中职!$A$1:$C$65536,3,0) -> 01396 | F8: 52
A9: 6 | B9: 李效凯 | C9: 枣庄市第十八中学 | D9: 高中数学教师 | E9: =VLOOKUP(B9,[1]山亭中小学中职!$A$1:$C$65536,3,0) -> 01075 | F9: 48
A10: 7 | B10: 陈淼 | C10: 枣庄市第十八中学 | D10: 高中历史教师 | E10: =VLOOKUP(B10,[1]山亭中小学中职!$A$1:$C$65536,3,0) -> 01701 | F10: 39
A11: 8 | B11: 赵乐豪 | C11: 枣庄市第十八中学 | D11: 高中化学教师 | E11: =VLOOKUP(B11,[1]山亭中小学中职!$A$1:$C$65536,3,0) -> 00649 | F11: 68.5
A12: 9 | B12: 苏丽影 | C12: 枣庄市第十八中学 | D12: 高中化学教师 | E12: =VLOOKUP(B12,[1]山亭中小学中职!$A$1:$C$65536,3,0) -> 02432 | F12: 60
A13: 10 | B13: 王明智 | C13: 枣庄市第十八中学 | D13: 高中化学教师 | E13: =VLOOKUP(B13,[1]山亭中小学中职!$A$1:$C$65536,3,0) -> 00816 | F13: 59.5
A14: 11 | B14: 龚琳舒 | C14: 枣庄市第十八中学 | D14: 高中化学教师 | E14: =VLOOKUP(B14,[1]山亭中小学中职!$A$1:$C$65536,3,0) -> 01892 | F14: 59
A15: 12 | B15: 王妍 | C15: 枣庄市第十八中学 | D15: 高中化学教师 | E15: =VLOOKUP(B15,[1]山亭中小学中职!$A$1:$C$65536,3,0) -> 02397 | F15: 58.5
... A218: 215 | B218: 刘玉 | C218: 山亭区实验小学集团 | D218: 小学英语教师 | E218: =VLOOKUP(B218,[1]山亭中小学中职!$A$1:$C$65536,3,0) -> 00579 | F218: 62
