Workbook

Sheet Sheet1
A1: 附件1
A2: 广东省阳西县2023年下半年公开招聘教师总成绩及拟体检人员名单
A3: 序号 | B3: 招聘单位 | C3: 职位代码 | D3: 姓名 | E3: 准考证号 | F3: 笔试成绩 | G3: 笔试折算成绩（占40%） | H3: 面试成绩 | I3: 面试折算成绩（占60%） | J3: 总成绩 | K3: 排名 | L3: 是否入围体检
A4: 1 | B4: 阳西县第一中学 | C4: 120 | D4: 许瑞瑜 | E4: 23101400201 | F4: =VLOOKUP(E4,[1]成绩表!$C$3:$G$599,5,0) -> 87.02 | G4: =F4*0.4 -> 34.808 | H4: =VLOOKUP(E4,[2]候考1!$E$2:$G$82,3,0) -> 77.4 | I4: =H4*0.6 -> 46.44 | J4: =G4+I4 -> 81.248 | K4: 1 | L4: 是
A5: 2 | B5: 阳西县第一中学 | C5: 120 | D5: 戴运银 | E5: 23101400111 | F5: =VLOOKUP(E5,[1]成绩表!$C$3:$G$599,5,0) -> 85.67 | G5: =F5*0.4 -> 34.268 | H5: =VLOOKUP(E5,[2]候考1!$E$2:$G$82,3,0) -> 77.5 | I5: =H5*0.6 -> 46.5 | J5: =G5+I5 -> 80.768 | K5: 2 | L5: 是
A6: 3 | B6: 阳西县第一中学 | C6: 120 | D6: 骆晓玲 | E6: 23101400210 | F6: =VLOOKUP(E6,[1]成绩表!$C$3:$G$599,5,0) -> 84.13 | G6: =F6*0.4 -> 33.652 | H6: =VLOOKUP(E6,[2]候考1!$E$2:$G$82,3,0) -> 76 | I6: =H6*0.6 -> 45.6 | J6: =G6+I6 -> 79.252 | K6: 3 | L6: 是
A7: 4 | B7: 阳西县第一中学 | C7: 120 | D7: 黄倩怡 | E7: 23101400321 | F7: =VLOOKUP(E7,[1]成绩表!$C$3:$G$599,5,0) -> 83.76 | G7: =F7*0.4 -> 33.504 | H7: =VLOOKUP(E7,[2]候考1!$E$2:$G$82,3,0) -> 76.1 | I7: =H7*0.6 -> 45.66 | J7: =G7+I7 -> 79.164 | K7: 4
A8: 5 | B8: 阳西县第一中学 | C8: 120 | D8: 林小妹 | E8: 23101400218 | F8: =VLOOKUP(E8,[1]成绩表!$C$3:$G$599,5,0) -> 83.43 | G8: =F8*0.4 -> 33.372 | H8: =VLOOKUP(E8,[2]候考1!$E$2:$G$82,3,0) -> 75.7 | I8: =H8*0.6 -> 45.42 | J8: =G8+I8 -> 78.792 | K8: 5
A9: 6 | B9: 阳西县第一中学 | C9: 120 | D9: 陈艾琳 | E9: 23101400303 | F9: =VLOOKUP(E9,[1]成绩表!$C$3:$G$599,5,0) -> 84.73 | G9: =F9*0.4 -> 33.892 | H9: =VLOOKUP(E9,[2]候考1!$E$2:$G$82,3,0) -> 73.6 | I9: =H9*0.6 -> 44.16 | J9: =G9+I9 -> 78.052 | K9: 6
A10: 7 | B10: 阳西县第一中学 | C10: 120 | D10: 曹晓梅 | E10: 23101400115 | F10: =VLOOKUP(E10,[1]成绩表!$C$3:$G$599,5,0) -> 86.61 | G10: =F10*0.4 -> 34.644 | H10: =VLOOKUP(E10,[2]候考1!$E$2:$G$82,3,0) -> 71.7 | I10: =H10*0.6 -> 43.02 | J10: =G10+I10 -> 77.664 | K10: 7
A11: 8 | B11: 阳西县第一中学 | C11: 120 | D11: 郑乐华 | E11: 23101400213 | F11: =VLOOKUP(E11,[1]成绩表!$C$3:$G$599,5,0) -> 83.65 | G11: =F11*0.4 -> 33.46 | H11: =VLOOKUP(E11,[2]候考1!$E$2:$G$82,3,0) -> 71 | I11: =H11*0.6 -> 42.6 | J11: =G11+I11 -> 76.06 | K11: 8
A12: 9 | B12: 阳西县第一中学 | C12: 120 | D12: 王辰 | E12: 23101400118 | F12: =VLOOKUP(E12,[1]成绩表!$C$3:$G$599,5,0) -> 83.3 | G12: =F12*0.4 -> 33.32 | H12: =VLOOKUP(E12,[2]候考1!$E$2:$G$82,3,0) -> 69.4 | I12: =H12*0.6 -> 41.64 | J12: =G12+I12 -> 74.96 | K12: 9
A13: 10 | B13: 阳西县第一中学 | C13: 121 | D13: 李华 | E13: 23101400415 | F13: =VLOOKUP(E13,[1]成绩表!$C$3:$G$599,5,0) -> 76.92 | G13: =F13*0.4 -> 30.768 | H13: =VLOOKUP(E13,[2]候考1!$E$2:$G$82,3,0) -> 77.4 | I13: =H13*0.6 -> 46.44 | J13: =G13+I13 -> 77.208 | K13: 1 | L13: 是
A14: 11 | B14: 阳西县第一中学 | C14: 121 | D14: 陈嘉敏 | E14: 23101400420 | F14: =VLOOKUP(E14,[1]成绩表!$C$3:$G$599,5,0) -> 75.81 | G14: =F14*0.4 -> 30.324 | H14: =VLOOKUP(E14,[2]候考1!$E$2:$G$82,3,0) -> 72.9 | I14: =H14*0.6 -> 43.74 | J14: =G14+I14 -> 74.064 | K14: 2
A15: 12 | B15: 阳西县第一中学 | C15: 121 | D15: 梁怀云 | E15: 23101400414 | F15: =VLOOKUP(E15,[1]成绩表!$C$3:$G$599,5,0) -> 77.8 | G15: =F15*0.4 -> 31.12 | H15: =VLOOKUP(E15,[2]候考1!$E$2:$G$82,3,0) -> 缺考 | I15: / | J15: / | K15: /
A16: 13 | B16: 阳西县第一中学 | C16: 122 | D16: 程翠柳 | E16: 23101400423 | F16: =VLOOKUP(E16,[1]成绩表!$C$3:$G$599,5,0) -> 71.72 | G16: =F16*0.4 -> 28.688 | H16: =VLOOKUP(E16,[2]候考1!$E$2:$G$82,3,0) -> 74.8 | I16: =H16*0.6 -> 44.88 | J16: =G16+I16 -> 73.568 | K16: 1 | L16: 是
A17: 14 | B17: 阳西县第二中学 | C17: 123 | D17: 廖水金 | E17: 23101400501 | F17: =VLOOKUP(E17,[1]成绩表!$C$3:$G$599,5,0) -> 75.25 | G17: =F17*0.4 -> 30.1 | H17: =VLOOKUP(E17,[2]候考1!$E$2:$G$82,3,0) -> 78.7 | I17: =H17*0.6 -> 47.22 | J17: =G17+I17 -> 77.32 | K17: 1 | L17: 是
A18: 15 | B18: 阳西县第二中学 | C18: 123 | D18: 严东林 | E18: 23101400430 | F18: =VLOOKUP(E18,[1]成绩表!$C$3:$G$599,5,0) -> 76.08 | G18: =F18*0.4 -> 30.432 | H18: =VLOOKUP(E18,[2]候考1!$E$2:$G$82,3,0) -> 72.2 | I18: =H18*0.6 -> 43.32 | J18: =G18+I18 -> 73.752 | K18: 2
A19: 16 | B19: 阳西县第二中学 | C19: 123 | D19: 林美彤 | E19: 23101400507 | F19: =VLOOKUP(E19,[1]成绩表!$C$3:$G$599,5,0) -> 71.32 | G19: =F19*0.4 -> 28.528 | H19: =VLOOKUP(E19,[2]候考1!$E$2:$G$82,3,0) -> 缺考 | I19: / | J19: / | K19: /
A20: 17 | B20: 阳西县第二中学 | C20: 125 | D20: 张小燕 | E20: 23101400606 | F20: =VLOOKUP(E20,[1]成绩表!$C$3:$G$599,5,0) -> 77.61 | G20: =F20*0.4 -> 31.044 | H20: =VLOOKUP(E20,[2]候考1!$E$2:$G$82,3,0) -> 78.2 | I20: =H20*0.6 -> 46.92 | J20: =G20+I20 -> 77.964 | K20: 1 | L20: 是
A21: 18 | B21: 阳西县第二中学 | C21: 125 | D21: 李思陵 | E21: 23101400608 | F21: =VLOOKUP(E21,[1]成绩表!$C$3:$G$599,5,0) -> 77.35 | G21: =F21*0.4 -> 30.94 | H21: =VLOOKUP(E21,[2]候考1!$E$2:$G$82,3,0) -> 77.6 | I21: =H21*0.6 -> 46.56 | J21: =G21+I21 -> 77.5 | K21: 2 | L21: 是
A22: 19 | B22: 阳西县第二中学 | C22: 125 | D22: 吴诗诗 | E22: 23101400513 | F22: =VLOOKUP(E22,[1]成绩表!$C$3:$G$599,5,0) -> 80.45 | G22: =F22*0.4 -> 32.18 | H22: =VLOOKUP(E22,[2]候考1!$E$2:$G$82,3,0) -> 74.5 | I22: =H22*0.6 -> 44.7 | J22: =G22+I22 -> 76.88 | K22: 3
A23: 20 | B23: 阳西县第二中学 | C23: 125 | D23: 徐灶连 | E23: 23101400601 | F23: =VLOOKUP(E23,[1]成绩表!$C$3:$G$599,5,0) -> 77.16 | G23: =F23*0.4 -> 30.864 | H23: =VLOOKUP(E23,[2]候考1!$E$2:$G$82,3,0) -> 72 | I23: =H23*0.6 -> 43.2 | J23: =G23+I23 -> 74.064 | K23: 4
A24: 21 | B24: 阳西县第二中学 | C24: 125 | D24: 刘琳婷 | E24: 23101400612 | F24: =VLOOKUP(E24,[1]成绩表!$C$3:$G$599,5,0) -> 76.93 | G24: =F24*0.4 -> 30.772 | H24: =VLOOKUP(E24,[2]候考1!$E$2:$G$82,3,0) -> 72.1 | I24: =H24*0.6 -> 43.26 | J24: =G24+I24 -> 74.032 | K24: 5
A25: 22 | B25: 阳西县第二中学 | C25: 125 | D25: 杨康凤 | E25: 23101400613 | F25: =VLOOKUP(E25,[1]成绩表!$C$3:$G$599,5,0) -> 76.69 | G25: =F25*0.4 -> 30.676 | H25: =VLOOKUP(E25,[2]候考1!$E$2:$G$82,3,0) -> 缺考 | I25: / | J25: / | K25: /
A26: 23 | B26: 阳西县第二中学 | C26: 126 | D26: 龙木英 | E26: 23101400627 | F26: =VLOOKUP(E26,[1]成绩表!$C$3:$G$599,5,0) -> 85.1 | G26: =F26*0.4 -> 34.04 | H26: =VLOOKUP(E26,[2]候考1!$E$2:$G$82,3,0) -> 73 | I26: =H26*0.6 -> 43.8 | J26: =G26+I26 -> 77.84 | K26: 1 | L26: 是
A27: 24 | B27: 阳西县第二中学 | C27: 127 | D27: 叶舜斐 | E27: 23101400727 | F27: =VLOOKUP(E27,[1]成绩表!$C$3:$G$599,5,0) -> 82.01 | G27: =F27*0.4 -> 32.804 | H27: =VLOOKUP(E27,[2]候考1!$E$2:$G$82,3,0) -> 76.2 | I27: =H27*0.6 -> 45.72 | J27: =G27+I27 -> 78.524 | K27: 1 | L27: 是
A28: 25 | B28: 阳西县第二中学 | C28: 127 | D28: 谭晓 | E28: 23101400807 | F28: =VLOOKUP(E28,[1]成绩表!$C$3:$G$599,5,0) -> 78.63 | G28: =F28*0.4 -> 31.452 | H28: =VLOOKUP(E28,[2]候考1!$E$2:$G$82,3,0) -> 75.3 | I28: =H28*0.6 -> 45.18 | J28: =G28+I28 -> 76.632 | K28: 2 | L28: 是
A29: 26 | B29: 阳西县第二中学 | C29: 127 | D29: 吴莉莉 | E29: 23101400809 | F29: =VLOOKUP(E29,[1]成绩表!$C$3:$G$599,5,0) -> 81.66 | G29: =F29*0.4 -> 32.664 | H29: =VLOOKUP(E29,[2]候考1!$E$2:$G$82,3,0) -> 73.1 | I29: =H29*0.6 -> 43.86 | J29: =G29+I29 -> 76.524 | K29: 3
A30: 27 | B30: 阳西县第二中学 | C30: 127 | D30: 肖莉 | E30: 23101400718 | F30: =VLOOKUP(E30,[1]成绩表!$C$3:$G$599,5,0) -> 79.31 | G30: =F30*0.4 -> 31.724 | H30: =VLOOKUP(E30,[2]候考1!$E$2:$G$82,3,0) -> 73.6 | I30: =H30*0.6 -> 44.16 | J30: =G30+I30 -> 75.884 | K30: 4
A31: 28 | B31: 阳西县第二中学 | C31: 127 | D31: 蓝少茹 | E31: 23101400730 | F31: =VLOOKUP(E31,[1]成绩表!$C$3:$G$599,5,0) -> 81.92 | G31: =F31*0.4 -> 32.768 | H31: =VLOOKUP(E31,[2]候考1!$E$2:$G$82,3,0) -> 70.7 | I31: =H31*0.6 -> 42.42 | J31: =G31+I31 -> 75.188 | K31: 5
A32: 29 | B32: 阳西县第二中学 | C32: 127 | D32: 谢爽爽 | E32: 23101400705 | F32: =VLOOKUP(E32,[1]成绩表!$C$3:$G$599,5,0) -> 77.24 | G32: =F32*0.4 -> 30.896 | H32: =VLOOKUP(E32,[2]候考1!$E$2:$G$82,3,0) -> 68.8 | I32: =H32*0.6 -> 41.28 | J32: =G32+I32 -> 72.176 | K32: 6
A33: 30 | B33: 阳西县方正中学 | C33: 128 | D33: 覃馨惠 | E33: 23101400818 | F33: =VLOOKUP(E33,[1]成绩表!$C$3:$G$599,5,0) -> 72.45 | G33: =F33*0.4 -> 28.98 | H33: =VLOOKUP(E33,[2]候考1!$E$2:$G$82,3,0) -> 72.3 | I33: =H33*0.6 -> 43.38 | J33: =G33+I33 -> 72.36 | K33: 1 | L33: 是
A34: 31 | B34: 阳西县方正中学 | C34: 128 | D34: 许永芳 | E34: 23101400819 | F34: =VLOOKUP(E34,[1]成绩表!$C$3:$G$599,5,0) -> 71.04 | G34: =F34*0.4 -> 28.416 | H34: =VLOOKUP(E34,[2]候考1!$E$2:$G$82,3,0) -> 72.7 | I34: =H34*0.6 -> 43.62 | J34: =G34+I34 -> 72.036 | K34: 2 | L34: 是
A35: 32 | B35: 阳西县方正中学 | C35: 128 | D35: 陈世杰 | E35: 23101400828 | F35: =VLOOKUP(E35,[1]成绩表!$C$3:$G$599,5,0) -> 66.68 | G35: =F35*0.4 -> 26.672 | H35: =VLOOKUP(E35,[2]候考1!$E$2:$G$82,3,0) -> 73.3 | I35: =H35*0.6 -> 43.98 | J35: =G35+I35 -> 70.652 | K35: 3 | L35: 是
A36: 33 | B36: 阳西县方正中学 | C36: 128 | D36: 邱锷 | E36: 23101400827 | F36: =VLOOKUP(E36,[1]成绩表!$C$3:$G$599,5,0) -> 68.72 | G36: =F36*0.4 -> 27.488 | H36: =VLOOKUP(E36,[2]候考1!$E$2:$G$82,3,0) -> 68.5 | I36: =H36*0.6 -> 41.1 | J36: =G36+I36 -> 68.588 | K36: 4
A37: 34 | B37: 阳西县奋兴中学 | C37: 129 | D37: 温汉业 | E37: 23101400829 | F37: =VLOOKUP(E37,[1]成绩表!$C$3:$G$599,5,0) -> 66.41 | G37: =F37*0.4 -> 26.564 | H37: =VLOOKUP(E37,[2]候考1!$E$2:$G$82,3,0) -> 72 | I37: =H37*0.6 -> 43.2 | J37: =G37+I37 -> 69.764 | K37: 1 | L37: 是
A38: 35 | B38: 阳西县奋兴中学 | C38: 130 | D38: 李宇颖 | E38: 23101400902 | F38: =VLOOKUP(E38,[1]成绩表!$C$3:$G$599,5,0) -> 80.62 | G38: =F38*0.4 -> 32.248 | H38: =VLOOKUP(E38,[2]候考1!$E$2:$G$82,3,0) -> 72.7 | I38: =H38*0.6 -> 43.62 | J38: =G38+I38 -> 75.868 | K38: 1 | L38: 是
A39: 36 | B39: 阳西县奋兴中学 | C39: 130 | D39: 温其欣 | E39: 23101400907 | F39: =VLOOKUP(E39,[1]成绩表!$C$3:$G$599,5,0) -> 65.37 | G39: =F39*0.4 -> 26.148 | H39: =VLOOKUP(E39,[2]候考1!$E$2:$G$82,3,0) -> 71.1 | I39: =H39*0.6 -> 42.66 | J39: =G39+I39 -> 68.808 | K39: 2
A40: 37 | B40: 阳西县奋兴中学 | C40: 131 | D40: 潘丽清 | E40: 23101400908 | F40: =VLOOKUP(E40,[1]成绩表!$C$3:$G$599,5,0) -> 62.37 | G40: =F40*0.4 -> 24.948 | H40: =VLOOKUP(E40,[2]候考1!$E$2:$G$82,3,0) -> 70.9 | I40: =H40*0.6 -> 42.54 | J40: =G40+I40 -> 67.488 | K40: 1 | L40: 是
...
