Workbook

Sheet Sheet1
A1: 附件1
A2: 广东省阳西县2023年下半年公开招聘教师总成绩及拟体检人员名单
A3: 序号 | B3: 招聘单位 | C3: 职位代码 | D3: 姓名 | E3: 准考证号 | F3: 笔试成绩 | G3: 笔试折算成绩（占40%） | H3: 面试成绩 | I3: 面试折算成绩（占60%） | J3: 总成绩 | K3: 排名 | L3: 是否入围体检
A4: 1 | B4: 阳西县第一中学 | C4: 120 | D4: 许瑞瑜 | E4: 23101400201 | F4: =VLOOKUP(E4,[1]成绩表!$C$3:$G$599,5,0) -> 87.02 | G4: =F4*0.4 -> 34.808 | H4: =VLOOKUP(E4,[2]候考1!$E$2:$G$82,3,0) -> 77.4 | I4: =H4*0.6 -> 46.44 | J4: =G4+I4 -> 81.248 | K4: 1 | L4: 是
A5: 2 | B5: 阳西县第一中学 | C5: 120 | D5: 戴运银 | E5: 23101400111 | F5: =VLOOKUP(E5,[1]成绩表!$C$3:$G$599,5,0) -> 85.67 | G5: =F5*0.4 -> 34.268 | H5: =VLOOKUP(E5,[2]候考1!$E$2:$G$82,3,0) -> 77.5 | I5: =H5*0.6 -> 46.5 | J5: =G5+I5 -> 80.768 | K5: 2 | L5: 是
A6: 3 | B6: 阳西县第一中学 | C6: 120 | D6: 骆晓玲 | E6: 23101400210 | F6: =VLOOKUP(E6,[1]成绩表!$C$3:$G$599,5,0) -> 84.13 | G6: =F6*0.4 -> 33.652 | H6: =VLOOKUP(E6,[2]候考1!$E$2:$G$82,3,0) -> 76 | I6: =H6*0.6 -> 45.6 | J6: =G6+I6 -> 79.252 | K6: 3 | L6: 是
A7: 4 | B7: 阳西县第一中学 | C7: 120 | D7: 黄倩怡 | E7: 23101400321 | F7: =VLOOKUP(E7,[1]成绩表!$C$3:$G$599,5,0) -> 83.76 | G7: =F7*0.4 -> 33.504 | H7: =VLOOKUP(E7,[2]候考1!$E$2:$G$82,3,0) -> 76.1 | I7: =H7*0.6 -> 45.66 | J7: =G7+I7 -> 79.164 | K7: 4
A8: 5 | B8: 阳西县第一中学 | C8: 120 | D8: 林小妹 | E8: 23101400218 | F8: =VLOOKUP(E8,[1]成绩表!$C$3:$G$599,5,0) -> 83.43 | G8: =F8*0.4 -> 33.372 | H8: =VLOOKUP(E8,[2]候考1!$E$2:$G$82,3,0) -> 75.7 | I8: =H8*0.6 -> 45.42 | J8: =G8+I8 -> 78.792 | K8: 5
A9: 6 | B9: 阳西县第一中学 | C9: 120 | D9: 陈艾琳 | E9: 23101400303 | F9: =VLOOKUP(E9,[1]成绩表!$C$3:$G$599,5,0) -> 84.73 | G9: =F9*0.4 -> 33.892 | H9: =VLOOKUP(E9,[2]候考1!$E$2:$G$82,3,0) -> 73.6 | I9: =H9*0.6 -> 44.16 | J9: =G9+I9 -> 78.052 | K9: 6
A10: 7 | B10: 阳西县第一中学 | C10: 120 | D10: 曹晓梅 | E10: 23101400115 | F10: =VLOOKUP(E10,[1]成绩表!$C$3:$G$599,5,0) -> 86.61 | G10: =F10*0.4 -> 34.644 | H10: =VLOOKUP(E10,[2]候考1!$E$2:$G$82,3,0) -> 71.7 | I10: =H10*0.6 -> 43.02 | J10: =G10+I10 -> 77.664 | K10: 7
A11: 8 | B11: 阳西县第一中学 | C11: 120 | D11: 郑乐华 | E11: 23101400213 | F11: =VLOOKUP(E11,[1]成绩表!$C$3:$G$599,5,0) -> 83.65 | G11: =F11*0.4 -> 33.46 | H11: =VLOOKUP(E11,[2]候考1!$E$2:$G$82,3,0) -> 71 | I11: =H11*0.6 -> 42.6 | J11: =G11+I11 -> 76.06 | K11: 8
A12: 9 | B12: 阳西县第一中学 | C12: 120 | D12: 王辰 | E12: 23101400118 | F12: =VLOOKUP(E12,[1]成绩表!$C$3:$G$599,5,0) -> 83.3 | G12: =F12*0.4 -> 33.32 | H12: =VLOOKUP(E12,[2]候考1!$E$2:$G$82,3,0) -> 69.4 | I12: =H12*0.6 -> 41.64 | J12: =G12+I12 -> 74.96 | K12: 9
A13: 10 | B13: 阳西县第一中学 | C13: 121 | D13: 李华 | E13: 23101400415 | F13: =VLOOKUP(E13,[1]成绩表!$C$3:$G$599,5,0) -> 76.92 | G13: =F13*0.4 -> 30.768 | H13: =VLOOKUP(E13,[2]候考1!$E$2:$G$82,3,0) -> 77.4 | I13: =H13*0.6 -> 46.44 | J13: =G13+I13 -> 77.208 | K13: 1 | L13: 是
A14: 11 | B14: 阳西县第一中学 | C14: 121 | D14: 陈嘉敏 | E14: 23101400420 | F14: =VLOOKUP(E14,[1]成绩表!$C$3:$G$599,5,0) -> 75.81 | G14: =F14*0.4 -> 30.324 | H14: =VLOOKUP(E14,[2]候考1!$E$2:$G$82,3,0) -> 72.9 | I14: =H14*0.6 -> 43.74 | J14: =G14+I14 -> 74.064 | K14: 2
A15: 12 | B15: 阳西县第一中学 | C15: 121 | D15: 梁怀云 | E15: 23101400414 | F15: =VLOOKUP(E15,[1]成绩表!$C$3:$G$599,5,0) -> 77.8 | G15: =F15*0.4 -> 31.12 | H15: =VLOOKUP(E15,[2]候考1!$E$2:$G$82,3,0) -> 缺考 | I15: / | J15: / | K15: /
A16: 13 | B16: 阳西县第一中学 | C16: 122 | D16: 程翠柳 | E16: 23101400423 | F16: =VLOOKUP(E16,[1]成绩表!$C$3:$G$599,5,0) -> 71.72 | G16: =F16*0.4 -> 28.688 | H16: =VLOOKUP(E16,[2]候考1!$E$2:$G$82,3,0) -> 74.8 | I16: =H16*0.6 -> 44.88 | J16: =G16+I16 -> 73.568 | K16: 1 | L16: 是
A17: 14 | B17: 阳西县第二中学 | C17: 123 | D17: 廖水金 | E17: 23101400501 | F17: =VLOOKUP(E17,[1]成绩表!$C$3:$G$599,5,0) -> 75.25 | G17: =F17*0.4 -> 30.1 | H17: =VLOOKUP(E17,[2]候考1!$E$2:$G$82,3,0) -> 78.7 | I17: =H17*0.6 -> 47.22 | J17: =G17+I17 -> 77.32 | K17: 1 | L17: 是
A18: 15 | B18: 阳西县第二中学 | C18: 123 | D18: 严东林 | E18: 23101400430 | F18: =VLOOKUP(E18,[1]成绩表!$C$3:$G$599,5,0) -> 76.08 | G18: =F18*0.4 -> 30.432 | H18: =VLOOKUP(E18,[2]候考1!$E$2:$G$82,3,0) -> 72.2 | I18: =H18*0.6 -> 43.32 | J18: =G18+I18 -> 73.752 | K18: 2
A19: 16 | B19: 阳西县第二中学 | C19: 123 | D19: 林美彤 | E19: 23101400507 | F19: =VLOOKUP(E19,[1]成绩表!$C$3:$G$599,5,0) -> 71.32 | G19: =F19*0.4 -> 28.528 | H19: =VLOOKUP(E19,[2]候考1!$E$2:$G$82,3,0) -> 缺考 | I19: / | J19: / | K19: /
A20: 17 | B20: 阳西县第二中学 | C20: 125 | D20: 张小燕 | E20: 23101400606 | F20: =VLOOKUP(E20,[1]成绩表!$C$3:$G$599,5,0) -> 77.61 | G20: =F20*0.4 -> 31.044 | H20: =VLOOKUP(E20,[2]候考1!$E$2:$G$82,3,0) -> 78.2 | I20: =H20*0.6 -> 46.92 | J20: =G20+I20 -> 77.964 | K20: 1 | L20: 是
A21: 18 | B21: 阳西县第二中学 | C21: 125 | D21: 李思陵 | E21: 23101400608 | F21: =VLOOKUP(E21,[1]成绩表!$C$3:$G$599,5,0) -> 77.35 | G21: =F21*0.4 -> 30.94 | H21: =VLOOKUP(E21,[2]候考1!$E$2:$G$82,3,0) -> 77.6 | I21: =H21*0.6 -> 46.56 | J21: =G21+I21 -> 77.5 | K21: 2 | L21: 是
A22: 19 | B22: 阳西县第二中学 | C22: 125 | D22: 吴诗诗 | E22: 23101400513 | F22: =VLOOKUP(E22,[1]成绩表!$C$3:$G$599,5,0) -> 80.45 | G22: =F22*0.4 -> 32.18 | H22: =VLOOKUP(E22,[2]候考1!$E$2:$G$82,3,0) -> 74.5 | I22: =H22*0.6 -> 44.7 | J22: =G22+I22 -> 76.88 | K22: 3
A23: 20 | B23: 阳西县第二中学 | C23: 125 | D23: 徐灶连 | E23: 23101400601 | F23: =VLOOKUP(E23,[1]成绩表!$C$3:$G$599,5,0) -> 77.16 | G23: =F23*0.4 -> 30.864 | H23: =VLOOKUP(E23,[2]候考1!$E$2:$G$82,3,0) -> 72 | I23: =H23*0.6 -> 43.2 | J23: =G23+I23 -> 74.064 | K23: 4
A24: 21 | B24: 阳西县第二中学 | C24: 125 | D24: 刘琳婷 | E24: 23101400612 | F24: =VLOOKUP(E24,[1]成绩表!$C$3:$G$599,5,0) -> 76.93 | G24: =F24*0.4 -> 30.772 | H24: =VLOOKUP(E24,[2]候考1!$E$2:$G$82,3,0) -> 72.1 | I24: =H24*0.6 -> 43.26 | J24: =G24+I24 -> 74.032 | K24: 5
A25: 22 | B25: 阳西县第二中学 | C25: 125 | D25: 杨康凤 | E25: 23101400613 | F25: =VLOOKUP(E25,[1]成绩表!$C$3:$G$599,5,0) -> 76.69 | G25: =F25*0.4 -> 30.676 | H25: =VLOOKUP(E25,[2]候考1!$E$2:$G$82,3,0) -> 缺考 | I25: / | J25: / | K25: /
A26: 23 | B26: 阳西县第二中学 | C26: 126 | D26: 龙木英 | E26: 23101400627 | F26: =VLOOKUP(E26,[1]成绩表!$C$3:$G$599,5,0) -> 85.1 | G26: =F26*0.4 -> 34.04 | H26: =VLOOKUP(E26,[2]候考1!$E$2:$G$82,3,0) -> 73 | I26: =H26*0.6 -> 43.8 | J26: =G26+I26 -> 77.84 | K26: 1 | L26: 是
A27: 24 | B27: 阳西县第二中学 | C27: 127 | D27: 叶舜斐 | E27: 23101400727 | F27: =VLOOKUP(E27,[1]成绩表!$C$3:$G$599,5,0) -> 82.01 | G27: =F27*0.4 -> 32.804 | H27: =VLOOKUP(E27,[2]候考1!$E$2:$G$82,3,0) -> 76.2 | I27: =H27*0.6 -> 45.72 | J27: =G27+I27 -> 78.524 | K27: 1 | L27: 是
A28: 25 | B28: 阳西县第二中学 | C28: 127 | D28: 谭晓 | E28: 23101400807 | F28: =VLOOKUP(E28,[1]成绩表!$C$3:$G$599,5,0) -> 78.63 | G28: =F28*0.4 -> 31.452 | H28: =VLOOKUP(E28,[2]候考1!$E$2:$G$82,3,0) -> 75.3 | I28: =H28*0.6 -> 45.18 | J28: =G28+I28 -> 76.632 | K28: 2 | L28: 是
A29: 26 | B29: 阳西县第二中学 | C29: 127 | D29: 吴莉莉 | E29: 23101400809 | F29: =VLOOKUP(E29,[1]成绩表!$C$3:$G$599,5,0) -> 81.66 | G29: =F29*0.4 -> 32.664 | H29: =VLOOKUP(E29,[2]候考1!$E$2:$G$82,3,0) -> 73.1 | I29: =H29*0.6 -> 43.86 | J29: =G29+I29 -> 76.524 | K29: 3
A30: 27 | B30: 阳西县第二中学 | C30: 127 | D30: 肖莉 | E30: 23101400718 | F30: =VLOOKUP(E30,[1]成绩表!$C$3:$G$599,5,0) -> 79.31 | G30: =F30*0.4 -> 31.724 | H30: =VLOOKUP(E30,[2]候考1!$E$2:$G$82,3,0) -> 73.6 | I30: =H30*0.6 -> 44.16 | J30: =G30+I30 -> 75.884 | K30: 4
A31: 28 | B31: 阳西县第二中学 | C31: 127 | D31: 蓝少茹 | E31: 23101400730 | F31: =VLOOKUP(E31,[1]成绩表!$C$3:$G$599,5,0) -> 81.92 | G31: =F31*0.4 -> 32.768 | H31: =VLOOKUP(E31,[2]候考1!$E$2:$G$82,3,0) -> 70.7 | I31: =H31*0.6 -> 42.42 | J31: =G31+I31 -> 75.188 | K31: 5
A32: 29 | B32: 阳西县第二中学 | C32: 127 | D32: 谢爽爽 | E32: 23101400705 | F32: =VLOOKUP(E32,[1]成绩表!$C$3:$G$599,5,0) -> 77.24 | G32: =F32*0.4 -> 30.896 | H32: =VLOOKUP(E32,[2]候考1!$E$2:$G$82,3,0) -> 68.8 | I32: =H32*0.6 -> 41.28 | J32: =G32+I32 -> 72.176 | K32: 6
A33: 30 | B33: 阳西县方正中学 | C33: 128 | D33: 覃馨惠 | E33: 23101400818 | F33: =VLOOKUP(E33,[1]成绩表!$C$3:$G$599,5,0) -> 72.45 | G33: =F33*0.4 -> 28.98 | H33: =VLOOKUP(E33,[2]候考1!$E$2:$G$82,3,0) -> 72.3 | I33: =H33*0.6 -> 43.38 | J33: =G33+I33 -> 72.36 | K33: 1 | L33: 是
A34: 31 | B34: 阳西县方正中学 | C34: 128 | D34: 许永芳 | E34: 23101400819 | F34: =VLOOKUP(E34,[1]成绩表!$C$3:$G$599,5,0) -> 71.04 | G34: =F34*0.4 -> 28.416 | H34: =VLOOKUP(E34,[2]候考1!$E$2:$G$82,3,0) -> 72.7 | I34: =H34*0.6 -> 43.62 | J34: =G34+I34 -> 72.036 | K34: 2 | L34: 是
A35: 32 | B35: 阳西县方正中学 | C35: 128 | D35: 陈世杰 | E35: 23101400828 | F35: =VLOOKUP(E35,[1]成绩表!$C$3:$G$599,5,0) -> 66.68 | G35: =F35*0.4 -> 26.672 | H35: =VLOOKUP(E35,[2]候考1!$E$2:$G$82,3,0) -> 73.3 | I35: =H35*0.6 -> 43.98 | J35: =G35+I35 -> 70.652 | K35: 3 | L35: 是
A36: 33 | B36: 阳西县方正中学 | C36: 128 | D36: 邱锷 | E36: 23101400827 | F36: =VLOOKUP(E36,[1]成绩表!$C$3:$G$599,5,0) -> 68.72 | G36: =F36*0.4 -> 27.488 | H36: =VLOOKUP(E36,[2]候考1!$E$2:$G$82,3,0) -> 68.5 | I36: =H36*0.6 -> 41.1 | J36: =G36+I36 -> 68.588 | K36: 4
A37: 34 | B37: 阳西县奋兴中学 | C37: 129 | D37: 温汉业 | E37: 23101400829 | F37: =VLOOKUP(E37,[1]成绩表!$C$3:$G$599,5,0) -> 66.41 | G37: =F37*0.4 -> 26.564 | H37: =VLOOKUP(E37,[2]候考1!$E$2:$G$82,3,0) -> 72 | I37: =H37*0.6 -> 43.2 | J37: =G37+I37 -> 69.764 | K37: 1 | L37: 是
A38: 35 | B38: 阳西县奋兴中学 | C38: 130 | D38: 李宇颖 | E38: 23101400902 | F38: =VLOOKUP(E38,[1]成绩表!$C$3:$G$599,5,0) -> 80.62 | G38: =F38*0.4 -> 32.248 | H38: =VLOOKUP(E38,[2]候考1!$E$2:$G$82,3,0) -> 72.7 | I38: =H38*0.6 -> 43.62 | J38: =G38+I38 -> 75.868 | K38: 1 | L38: 是
A39: 36 | B39: 阳西县奋兴中学 | C39: 130 | D39: 温其欣 | E39: 23101400907 | F39: =VLOOKUP(E39,[1]成绩表!$C$3:$G$599,5,0) -> 65.37 | G39: =F39*0.4 -> 26.148 | H39: =VLOOKUP(E39,[2]候考1!$E$2:$G$82,3,0) -> 71.1 | I39: =H39*0.6 -> 42.66 | J39: =G39+I39 -> 68.808 | K39: 2
A40: 37 | B40: 阳西县奋兴中学 | C40: 131 | D40: 潘丽清 | E40: 23101400908 | F40: =VLOOKUP(E40,[1]成绩表!$C$3:$G$599,5,0) -> 62.37 | G40: =F40*0.4 -> 24.948 | H40: =VLOOKUP(E40,[2]候考1!$E$2:$G$82,3,0) -> 70.9 | I40: =H40*0.6 -> 42.54 | J40: =G40+I40 -> 67.488 | K40: 1 | L40: 是
A41: 38 | B41: 阳西县奋兴中学 | C41: 132 | D41: 赖茵 | E41: 23101400911 | F41: =VLOOKUP(E41,[1]成绩表!$C$3:$G$599,5,0) -> 72.67 | G41: =F41*0.4 -> 29.068 | H41: =VLOOKUP(E41,[2]候考1!$E$2:$G$82,3,0) -> 75.3 | I41: =H41*0.6 -> 45.18 | J41: =G41+I41 -> 74.248 | K41: 1 | L41: 是
A42: 39 | B42: 阳西县奋兴中学 | C42: 132 | D42: 冯永 | E42: 23101400912 | F42: =VLOOKUP(E42,[1]成绩表!$C$3:$G$599,5,0) -> 72.17 | G42: =F42*0.4 -> 28.868 | H42: =VLOOKUP(E42,[2]候考1!$E$2:$G$82,3,0) -> 74.4 | I42: =H42*0.6 -> 44.64 | J42: =G42+I42 -> 73.508 | K42: 2
A43: 40 | B43: 阳西县第一中学附属实验学校 | C43: 133 | D43: 吴观凤 | E43: 23101400915 | F43: =VLOOKUP(E43,[1]成绩表!$C$3:$G$599,5,0) -> 71.4 | G43: =F43*0.4 -> 28.56 | H43: =VLOOKUP(E43,[2]候考1!$E$2:$G$82,3,0) -> 缺考 | I43: / | J43: / | K43: /
A44: 41 | B44: 阳西县第一中学附属实验学校 | C44: 134 | D44: 梁晓雪 | E44: 23101400921 | F44: =VLOOKUP(E44,[1]成绩表!$C$3:$G$599,5,0) -> 81.42 | G44: =F44*0.4 -> 32.568 | H44: =VLOOKUP(E44,[2]候考1!$E$2:$G$82,3,0) -> 75.7 | I44: =H44*0.6 -> 45.42 | J44: =G44+I44 -> 77.988 | K44: 1 | L44: 是
A45: 42 | B45: 阳西县第一中学附属实验学校 | C45: 134 | D45: 谢广煜 | E45: 23101400917 | F45: =VLOOKUP(E45,[1]成绩表!$C$3:$G$599,5,0) -> 86.09 | G45: =F45*0.4 -> 34.436 | H45: =VLOOKUP(E45,[2]候考1!$E$2:$G$82,3,0) -> 70.8 | I45: =H45*0.6 -> 42.48 | J45: =G45+I45 -> 76.916 | K45: 2 | L45: 是
A46: 43 | B46: 阳西县第一中学附属实验学校 | C46: 134 | D46: 黎妍妍 | E46: 23101400923 | F46: =VLOOKUP(E46,[1]成绩表!$C$3:$G$599,5,0) -> 72.82 | G46: =F46*0.4 -> 29.128 | H46: =VLOOKUP(E46,[2]候考1!$E$2:$G$82,3,0) -> 75.1 | I46: =H46*0.6 -> 45.06 | J46: =G46+I46 -> 74.188 | K46: 3
A47: 44 | B47: 阳西县第一中学附属实验学校 | C47: 134 | D47: 陈安琦 | E47: 23101400916 | F47: =VLOOKUP(E47,[1]成绩表!$C$3:$G$599,5,0) -> 79.41 | G47: =F47*0.4 -> 31.764 | H47: =VLOOKUP(E47,[2]候考1!$E$2:$G$82,3,0) -> 69.7 | I47: =H47*0.6 -> 41.82 | J47: =G47+I47 -> 73.584 | K47: 4
A48: 45 | B48: 阳西县第一中学附属实验学校 | C48: 134 | D48: 罗宜锭 | E48: 23101400920 | F48: =VLOOKUP(E48,[1]成绩表!$C$3:$G$599,5,0) -> 74.93 | G48: =F48*0.4 -> 29.972 | H48: =VLOOKUP(E48,[2]候考1!$E$2:$G$82,3,0) -> 68.7 | I48: =H48*0.6 -> 41.22 | J48: =G48+I48 -> 71.192 | K48: 5
A49: 46 | B49: 阳西县第一中学附属实验学校 | C49: 134 | D49: 冼丽斯 | E49: 23101400919 | F49: =VLOOKUP(E49,[1]成绩表!$C$3:$G$599,5,0) -> 71.82 | G49: =F49*0.4 -> 28.728 | H49: =VLOOKUP(E49,[2]候考1!$E$2:$G$82,3,0) -> 缺考 | I49: / | J49: / | K49: /
A50: 47 | B50: 阳西县第一中学附属实验学校 | C50: 135 | D50: 蔡泸瑶 | E50: 23101401010 | F50: =VLOOKUP(E50,[1]成绩表!$C$3:$G$599,5,0) -> 81.07 | G50: =F50*0.4 -> 32.428 | H50: =VLOOKUP(E50,[2]候考1!$E$2:$G$82,3,0) -> 80.3 | I50: =H50*0.6 -> 48.18 | J50: =G50+I50 -> 80.608 | K50: 1 | L50: 是
A51: 48 | B51: 阳西县第一中学附属实验学校 | C51: 135 | D51: 廖思华 | E51: 23101401014 | F51: =VLOOKUP(E51,[1]成绩表!$C$3:$G$599,5,0) -> 83.73 | G51: =F51*0.4 -> 33.492 | H51: =VLOOKUP(E51,[2]候考1!$E$2:$G$82,3,0) -> 缺考 | I51: / | J51: / | K51: /
A52: 49 | B52: 阳西县第一中学附属实验学校 | C52: 135 | D52: 谭志英 | E52: 23101401006 | F52: =VLOOKUP(E52,[1]成绩表!$C$3:$G$599,5,0) -> 79.73 | G52: =F52*0.4 -> 31.892 | H52: =VLOOKUP(E52,[2]候考1!$E$2:$G$82,3,0) -> 缺考 | I52: / | J52: / | K52: /
A53: 50 | B53: 阳西县第一中学附属实验学校 | C53: 136 | D53: 刘惠红 | E53: 23101401018 | F53: =VLOOKUP(E53,[1]成绩表!$C$3:$G$599,5,0) -> 75.56 | G53: =F53*0.4 -> 30.224 | H53: =VLOOKUP(E53,[2]候考1!$E$2:$G$82,3,0) -> 74.2 | I53: =H53*0.6 -> 44.52 | J53: =G53+I53 -> 74.744 | K53: 1 | L53: 是
A54: 51 | B54: 阳西县第一中学附属实验学校 | C54: 136 | D54: 梁玉仙 | E54: 23101401019 | F54: =VLOOKUP(E54,[1]成绩表!$C$3:$G$599,5,0) -> 61.41 | G54: =F54*0.4 -> 24.564 | H54: =VLOOKUP(E54,[2]候考1!$E$2:$G$82,3,0) -> 缺考 | I54: / | J54: / | K54: /
A55: 52 | B55: 阳西县第一中学附属实验学校 | C55: 137 | D55: 邓子坤 | E55: 23101401110 | F55: =VLOOKUP(E55,[1]成绩表!$C$3:$G$599,5,0) -> 84.17 | G55: =F55*0.4 -> 33.668 | H55: =VLOOKUP(E55,[2]候考1!$E$2:$G$82,3,0) -> 78 | I55: =H55*0.6 -> 46.8 | J55: =G55+I55 -> 80.468 | K55: 1 | L55: 是
A56: 53 | B56: 阳西县第一中学附属实验学校 | C56: 137 | D56: 丁思敏 | E56: 23101401130 | F56: =VLOOKUP(E56,[1]成绩表!$C$3:$G$599,5,0) -> 84.15 | G56: =F56*0.4 -> 33.66 | H56: =VLOOKUP(E56,[2]候考1!$E$2:$G$82,3,0) -> 76.7 | I56: =H56*0.6 -> 46.02 | J56: =G56+I56 -> 79.68 | K56: 2
A57: 54 | B57: 阳西县第一中学附属实验学校 | C57: 137 | D57: 俞晓谷 | E57: 23101401124 | F57: =VLOOKUP(E57,[1]成绩表!$C$3:$G$599,5,0) -> 82.65 | G57: =F57*0.4 -> 33.06 | H57: =VLOOKUP(E57,[2]候考1!$E$2:$G$82,3,0) -> 72.9 | I57: =H57*0.6 -> 43.74 | J57: =G57+I57 -> 76.8 | K57: 3
A58: 55 | B58: 阳西县第一中学附属实验学校 | C58: 138 | D58: 龙火芹 | E58: 23101401214 | F58: =VLOOKUP(E58,[1]成绩表!$C$3:$G$599,5,0) -> 82.23 | G58: =F58*0.4 -> 32.892 | H58: =VLOOKUP(E58,[2]候考1!$E$2:$G$82,3,0) -> 78 | I58: =H58*0.6 -> 46.8 | J58: =G58+I58 -> 79.692 | K58: 1 | L58: 是
A59: 56 | B59: 阳西县第一中学附属实验学校 | C59: 138 | D59: 吴春蝶 | E59: 23101401209 | F59: =VLOOKUP(E59,[1]成绩表!$C$3:$G$599,5,0) -> 82.54 | G59: =F59*0.4 -> 33.016 | H59: =VLOOKUP(E59,[2]候考1!$E$2:$G$82,3,0) -> 70.8 | I59: =H59*0.6 -> 42.48 | J59: =G59+I59 -> 75.496 | K59: 2
A60: 57 | B60: 阳西县第一中学附属实验学校 | C60: 138 | D60: 蔡燕冰 | E60: 23101401301 | F60: =VLOOKUP(E60,[1]成绩表!$C$3:$G$599,5,0) -> 82.25 | G60: =F60*0.4 -> 32.9 | H60: =VLOOKUP(E60,[2]候考1!$E$2:$G$82,3,0) -> 69.3 | I60: =H60*0.6 -> 41.58 | J60: =G60+I60 -> 74.48 | K60: 3
A61: 58 | B61: 阳西县第一中学附属实验学校 | C61: 139 | D61: 梁威豪 | E61: 23101401424 | F61: =VLOOKUP(E61,[1]成绩表!$C$3:$G$599,5,0) -> 76.26 | G61: =F61*0.4 -> 30.504 | H61: =VLOOKUP(E61,[2]候考1!$E$2:$G$82,3,0) -> 79 | I61: =H61*0.6 -> 47.4 | J61: =G61+I61 -> 77.904 | K61: 1 | L61: 是
A62: 59 | B62: 阳西县第一中学附属实验学校 | C62: 139 | D62: 阮永林 | E62: 23101401404 | F62: =VLOOKUP(E62,[1]成绩表!$C$3:$G$599,5,0) -> 76.12 | G62: =F62*0.4 -> 30.448 | H62: =VLOOKUP(E62,[2]候考1!$E$2:$G$82,3,0) -> 78.55 | I62: =H62*0.6 -> 47.13 | J62: =G62+I62 -> 77.578 | K62: 2 | L62: 是
A63: 60 | B63: 阳西县第一中学附属实验学校 | C63: 139 | D63: 欧炳超 | E63: 23101401518 | F63: =VLOOKUP(E63,[1]成绩表!$C$3:$G$599,5,0) -> 75.04 | G63: =F63*0.4 -> 30.016 | H63: =VLOOKUP(E63,[2]候考1!$E$2:$G$82,3,0) -> 79.15 | I63: =H63*0.6 -> 47.49 | J63: =G63+I63 -> 77.506 | K63: 3
A64: 61 | B64: 阳西县第一中学附属实验学校 | C64: 139 | D64: 冯德强 | E64: 23101401522 | F64: =VLOOKUP(E64,[1]成绩表!$C$3:$G$599,5,0) -> 77.73 | G64: =F64*0.4 -> 31.092 | H64: =VLOOKUP(E64,[2]候考1!$E$2:$G$82,3,0) -> 76.2 | I64: =H64*0.6 -> 45.72 | J64: =G64+I64 -> 76.812 | K64: 4
A65: 62 | B65: 阳西县第一中学附属实验学校 | C65: 139 | D65: 洪作民 | E65: 23101401609 | F65: =VLOOKUP(E65,[1]成绩表!$C$3:$G$599,5,0) -> 75.01 | G65: =F65*0.4 -> 30.004 | H65: =VLOOKUP(E65,[2]候考1!$E$2:$G$82,3,0) -> 76.05 | I65: =H65*0.6 -> 45.63 | J65: =G65+I65 -> 75.634 | K65: 5
A66: 63 | B66: 阳西县第一中学附属实验学校 | C66: 139 | D66: 赖清华 | E66: 23101401502 | F66: =VLOOKUP(E66,[1]成绩表!$C$3:$G$599,5,0) -> 77.38 | G66: =F66*0.4 -> 30.952 | H66: =VLOOKUP(E66,[2]候考1!$E$2:$G$82,3,0) -> 73.8 | I66: =H66*0.6 -> 44.28 | J66: =G66+I66 -> 75.232 | K66: 6
A67: 64 | B67: 阳西县第四小学 | C67: 141 | D67: 李倩梅 | E67: 23101401710 | F67: =VLOOKUP(E67,[1]成绩表!$C$3:$G$599,5,0) -> 91.92 | G67: =F67*0.4 -> 36.768 | H67: =VLOOKUP(E67,[2]候考1!$E$2:$G$82,3,0) -> 79.7 | I67: =H67*0.6 -> 47.82 | J67: =G67+I67 -> 84.588 | K67: 1 | L67: 是
A68: 65 | B68: 阳西县第四小学 | C68: 141 | D68: 石胜杰 | E68: 23101401707 | F68: =VLOOKUP(E68,[1]成绩表!$C$3:$G$599,5,0) -> 77.24 | G68: =F68*0.4 -> 30.896 | H68: =VLOOKUP(E68,[2]候考1!$E$2:$G$82,3,0) -> 77.2 | I68: =H68*0.6 -> 46.32 | J68: =G68+I68 -> 77.216 | K68: 2
A69: 66 | B69: 阳西县第四小学 | C69: 141 | D69: 黎金峰 | E69: 23101401620 | F69: =VLOOKUP(E69,[1]成绩表!$C$3:$G$599,5,0) -> 86.16 | G69: =F69*0.4 -> 34.464 | H69: =VLOOKUP(E69,[2]候考1!$E$2:$G$82,3,0) -> 缺考 | I69: / | J69: / | K69: /
A70: 67 | B70: 阳西县方正小学 | C70: 142 | D70: 许小琴 | E70: 23101401721 | F70: =VLOOKUP(E70,[1]成绩表!$C$3:$G$599,5,0) -> 80.83 | G70: =F70*0.4 -> 32.332 | H70: =VLOOKUP(E70,[2]候考1!$E$2:$G$82,3,0) -> 78.4 | I70: =H70*0.6 -> 47.04 | J70: =G70+I70 -> 79.372 | K70: 1 | L70: 是
A71: 68 | B71: 阳西县方正小学 | C71: 142 | D71: 陈薇如 | E71: 23101401720 | F71: =VLOOKUP(E71,[1]成绩表!$C$3:$G$599,5,0) -> 78.74 | G71: =F71*0.4 -> 31.496 | H71: =VLOOKUP(E71,[2]候考1!$E$2:$G$82,3,0) -> 73.8 | I71: =H71*0.6 -> 44.28 | J71: =G71+I71 -> 75.776 | K71: 2
A72: 69 | B72: 阳西县方正小学 | C72: 142 | D72: 赵加宇 | E72: 23101401728 | F72: =VLOOKUP(E72,[1]成绩表!$C$3:$G$599,5,0) -> 74.75 | G72: =F72*0.4 -> 29.9 | H72: =VLOOKUP(E72,[2]候考1!$E$2:$G$82,3,0) -> 76.1 | I72: =H72*0.6 -> 45.66 | J72: =G72+I72 -> 75.56 | K72: 3
A73: 70 | B73: 阳西县上洋镇 上洋小学 | C73: 143 | D73: 尹庆焕 | E73: 23101401810 | F73: =VLOOKUP(E73,[1]成绩表!$C$3:$G$599,5,0) -> 74.14 | G73: =F73*0.4 -> 29.656 | H73: =VLOOKUP(E73,[2]候考1!$E$2:$G$82,3,0) -> 76.4 | I73: =H73*0.6 -> 45.84 | J73: =G73+I73 -> 75.496 | K73: 1 | L73: 是
A74: 71 | B74: 阳西县上洋镇 上洋小学 | C74: 143 | D74: 吴慧民 | E74: 23101401809 | F74: =VLOOKUP(E74,[1]成绩表!$C$3:$G$599,5,0) -> 71.03 | G74: =F74*0.4 -> 28.412 | H74: =VLOOKUP(E74,[2]候考1!$E$2:$G$82,3,0) -> 78.4 | I74: =H74*0.6 -> 47.04 | J74: =G74+I74 -> 75.452 | K74: 2
A75: 72 | B75: 阳西县上洋镇 上洋小学 | C75: 143 | D75: 廖群 | E75: 23101401815 | F75: =VLOOKUP(E75,[1]成绩表!$C$3:$G$599,5,0) -> 71.42 | G75: =F75*0.4 -> 28.568 | H75: =VLOOKUP(E75,[2]候考1!$E$2:$G$82,3,0) -> 75.8 | I75: =H75*0.6 -> 45.48 | J75: =G75+I75 -> 74.048 | K75: 3
A76: 73 | B76: 阳西县上洋镇 上洋小学 | C76: 144 | D76: 李志发 | E76: 23101401909 | F76: =VLOOKUP(E76,[1]成绩表!$C$3:$G$599,5,0) -> 73.07 | G76: =F76*0.4 -> 29.228 | H76: =VLOOKUP(E76,[2]候考1!$E$2:$G$82,3,0) -> 75.1 | I76: =H76*0.6 -> 45.06 | J76: =G76+I76 -> 74.288 | K76: 1 | L76: 是
A77: 74 | B77: 阳西县上洋镇 上洋小学 | C77: 144 | D77: 宾智锐 | E77: 23101401902 | F77: =VLOOKUP(E77,[1]成绩表!$C$3:$G$599,5,0) -> 70.19 | G77: =F77*0.4 -> 28.076 | H77: =VLOOKUP(E77,[2]候考1!$E$2:$G$82,3,0) -> 75.3 | I77: =H77*0.6 -> 45.18 | J77: =G77+I77 -> 73.256 | K77: 2
A78: 75 | B78: 阳西县上洋镇 上洋小学 | C78: 144 | D78: 利俊豪 | E78: 23101401827 | F78: =VLOOKUP(E78,[1]成绩表!$C$3:$G$599,5,0) -> 68.53 | G78: =F78*0.4 -> 27.412 | H78: =VLOOKUP(E78,[2]候考1!$E$2:$G$82,3,0) -> 73.2 | I78: =H78*0.6 -> 43.92 | J78: =G78+I78 -> 71.332 | K78: 3
A79: 76 | B79: 阳西县儒洞镇蓝田小学 | C79: 145 | D79: 洪俏俏 | E79: 23101401917 | F79: =VLOOKUP(E79,[1]成绩表!$C$3:$G$599,5,0) -> 82.29 | G79: =F79*0.4 -> 32.916 | H79: =VLOOKUP(E79,[2]候考1!$E$2:$G$82,3,0) -> 74 | I79: =H79*0.6 -> 44.4 | J79: =G79+I79 -> 77.316 | K79: 1 | L79: 是
A80: 77 | B80: 阳西县儒洞镇蓝田小学 | C80: 145 | D80: 袁雨婷 | E80: 23101402001 | F80: =VLOOKUP(E80,[1]成绩表!$C$3:$G$599,5,0) -> 76.05 | G80: =F80*0.4 -> 30.42 | H80: =VLOOKUP(E80,[2]候考1!$E$2:$G$82,3,0) -> 77.9 | I80: =H80*0.6 -> 46.74 | J80: =G80+I80 -> 77.16 | K80: 2
A81: 78 | B81: 阳西县儒洞镇蓝田小学 | C81: 145 | D81: 杨秋泊 | E81: 23101401926 | F81: =VLOOKUP(E81,[1]成绩表!$C$3:$G$599,5,0) -> 75.4 | G81: =F81*0.4 -> 30.16 | H81: =VLOOKUP(E81,[2]候考1!$E$2:$G$82,3,0) -> 73.2 | I81: =H81*0.6 -> 43.92 | J81: =G81+I81 -> 74.08 | K81: 3
A82: 79 | B82: 阳西县新圩镇幼儿园 | C82: 146 | D82: 叶清华 | E82: 23101402014 | F82: =VLOOKUP(E82,[1]成绩表!$C$3:$G$599,5,0) -> 82.86 | G82: =F82*0.4 -> 33.144 | H82: =VLOOKUP(E82,[2]候考1!$E$2:$G$82,3,0) -> 79.5 | I82: =H82*0.6 -> 47.7 | J82: =G82+I82 -> 80.844 | K82: 1 | L82: 是
A83: 80 | B83: 阳西县新圩镇幼儿园 | C83: 146 | D83: 谭凤金 | E83: 23101402005 | F83: =VLOOKUP(E83,[1]成绩表!$C$3:$G$599,5,0) -> 77.43 | G83: =F83*0.4 -> 30.972 | H83: =VLOOKUP(E83,[2]候考1!$E$2:$G$82,3,0) -> 75.2 | I83: =H83*0.6 -> 45.12 | J83: =G83+I83 -> 76.092 | K83: 2
A84: 81 | B84: 阳西县新圩镇幼儿园 | C84: 146 | D84: 薛绮妃 | E84: 23101402009 | F84: =VLOOKUP(E84,[1]成绩表!$C$3:$G$599,5,0) -> 77.59 | G84: =F84*0.4 -> 31.036 | H84: =VLOOKUP(E84,[2]候考1!$E$2:$G$82,3,0) -> 74.7 | I84: =H84*0.6 -> 44.82 | J84: =G84+I84 -> 75.856 | K84: 3
