{"text_format":"3","workbook":"xlsx","n_sheets":1,"sheets":["成绩登记表"],"not_rendered":{"external_links":1},"read":"whole","date_system":"1900"}

{"sheet":"成绩登记表","index":0,"n_rows":151,"n_cols":8,"rows_kept":151,"merged":[[0,1,0,7]]}
[null,"江苏省沛县面向2025年毕业生公开招聘编制教师部分岗位适岗评价成绩"]
[null,"序号","适岗评价成绩","岗位名称","岗位代码","姓名","性别","备注"]
[null,1,{"v":80.4,"d":"80.40"},"高中数学教师",201,"孙兵",{"$f":"VLOOKUP(F3,[1]Sheet1!A$1:B$65536,2,FALSE)","v":"女"}]
[null,2,{"v":81,"d":"81.00"},"高中数学教师",201,"许钰浛",{"$f":"VLOOKUP(F4,[1]Sheet1!A$1:B$65536,2,FALSE)","v":"女"}]
[null,3,{"v":84.8,"d":"84.80"},"高中数学教师",201,"詹新春",{"$f":"VLOOKUP(F5,[1]Sheet1!A$1:B$65536,2,FALSE)","v":"男"}]
[null,4,{"v":81.8,"d":"81.80"},"高中数学教师",201,"权世中",{"$f":"VLOOKUP(F6,[1]Sheet1!A$1:B$65536,2,FALSE)","v":"男"}]
[null,5,{"v":85.4,"d":"85.40"},"高中数学教师",201,"赵喆",{"$f":"VLOOKUP(F7,[1]Sheet1!A$1:B$65536,2,FALSE)","v":"女"}]
[null,6,{"v":85.4,"d":"85.40"},"高中数学教师",201,"王聪",{"$f":"VLOOKUP(F8,[1]Sheet1!A$1:B$65536,2,FALSE)","v":"女"}]
[null,7,{"v":83,"d":"83.00"},"高中数学教师",201,"李维钰",{"$f":"VLOOKUP(F9,[1]Sheet1!A$1:B$65536,2,FALSE)","v":"男"}]
[null,8,{"v":84.8,"d":"84.80"},"高中数学教师",201,"马子晴",{"$f":"VLOOKUP(F10,[1]Sheet1!A$1:B$65536,2,FALSE)","v":"女"}]
[null,9,{"v":80,"d":"80.00"},"高中数学教师",201,"陶雪晴",{"$f":"VLOOKUP(F11,[1]Sheet1!A$1:B$65536,2,FALSE)","v":"女"}]
[null,10,{"v":81.6,"d":"81.60"},"高中数学教师",201,"陈璇璇",{"$f":"VLOOKUP(F12,[1]Sheet1!A$1:B$65536,2,FALSE)","v":"女"}]
[null,11,{"v":79.6,"d":"79.60"},"高中数学教师",201,"王伟龙",{"$f":"VLOOKUP(F13,[1]Sheet1!A$1:B$65536,2,FALSE)","v":"男"}]
[null,12,{"v":79.2,"d":"79.20"},"高中数学教师",201,"韦欣欣",{"$f":"VLOOKUP(F14,[1]Sheet1!A$1:B$65536,2,FALSE)","v":"女"}]
[null,13,{"v":88.4,"d":"88.40"},"高中数学教师",201,"杜航航",{"$f":"VLOOKUP(F15,[1]Sheet1!A$1:B$65536,2,FALSE)","v":"男"}]
[null,14,{"v":82,"d":"82.00"},"高中数学教师",201,"于贺贺",{"$f":"VLOOKUP(F16,[1]Sheet1!A$1:B$65536,2,FALSE)","v":"男"}]
[null,15,{"v":84.2,"d":"84.20"},"高中数学教师",201,"肖璇",{"$f":"VLOOKUP(F17,[1]Sheet1!A$1:B$65536,2,FALSE)","v":"女"}]
[null,16,{"v":83.6,"d":"83.60"},"高中数学教师",201,"张馨之",{"$f":"VLOOKUP(F18,[1]Sheet1!A$1:B$65536,2,FALSE)","v":"女"}]
[null,17,{"v":82.6,"d":"82.60"},"高中数学教师",201,"陶宇琪",{"$f":"VLOOKUP(F19,[1]Sheet1!A$1:B$65536,2,FALSE)","v":"女"}]
[null,18,{"v":81,"d":"81.00"},"高中数学教师",201,"崔慧杰",{"$f":"VLOOKUP(F20,[1]Sheet1!A$1:B$65536,2,FALSE)","v":"女"}]
[null,19,{"v":81.2,"d":"81.20"},"高中数学教师",201,"吴传辉",{"$f":"VLOOKUP(F21,[1]Sheet1!A$1:B$65536,2,FALSE)","v":"女"}]
[null,1,{"v":78,"d":"78.00"},"高中语文教师",101,"蔡耀炎",{"$f":"VLOOKUP(F22,[1]Sheet1!A$1:B$65536,2,FALSE)","v":"女"}]
[null,2,{"v":73,"d":"73.00"},"高中语文教师",101,"范艳群",{"$f":"VLOOKUP(F23,[1]Sheet1!A$1:B$65536,2,FALSE)","v":"女"}]
[null,3,{"v":82.8,"d":"82.80"},"高中语文教师",101,"朱伊璇",{"$f":"VLOOKUP(F24,[1]Sheet1!A$1:B$65536,2,FALSE)","v":"女"}]
[null,4,{"v":77,"d":"77.00"},"高中语文教师",101,"曹慧",{"$f":"VLOOKUP(F25,[1]Sheet1!A$1:B$65536,2,FALSE)","v":"女"}]
[null,5,{"v":75,"d":"75.00"},"高中语文教师",101,"陈满",{"$f":"VLOOKUP(F26,[1]Sheet1!A$1:B$65536,2,FALSE)","v":"女"}]
[null,6,{"v":82.4,"d":"82.40"},"高中语文教师",101,"相立钰",{"$f":"VLOOKUP(F27,[1]Sheet1!A$1:B$65536,2,FALSE)","v":"女"}]
[null,7,{"v":86.4,"d":"86.40"},"高中语文教师",101,"牟紫瑄","女"]
[null,8,{"v":82.6,"d":"82.60"},"高中语文教师",101,"刘津",{"$f":"VLOOKUP(F29,[1]Sheet1!A$1:B$65536,2,FALSE)","v":"女"}]
[null,9,{"v":77.2,"d":"77.20"},"高中语文教师",101,"颜颜",{"$f":"VLOOKUP(F30,[1]Sheet1!A$1:B$65536,2,FALSE)","v":"女"}]
[null,10,{"v":79.4,"d":"79.40"},"高中语文教师",101,"何晴",{"$f":"VLOOKUP(F31,[1]Sheet1!A$1:B$65536,2,FALSE)","v":"女"}]
[null,11,{"v":80.6,"d":"80.60"},"高中语文教师",101,"康张琪",{"$f":"VLOOKUP(F32,[1]Sheet1!A$1:B$65536,2,FALSE)","v":"女"}]
[null,12,{"v":83.8,"d":"83.80"},"高中语文教师",101,"程君",{"$f":"VLOOKUP(F33,[1]Sheet1!A$1:B$65536,2,FALSE)","v":"女"}]
[null,13,{"v":76,"d":"76.00"},"高中语文教师",101,"潘会会",{"$f":"VLOOKUP(F34,[1]Sheet1!A$1:B$65536,2,FALSE)","v":"女"}]
[null,14,{"v":85,"d":"85.00"},"高中语文教师",101,"李玉",{"$f":"VLOOKUP(F35,[1]Sheet1!A$1:B$65536,2,FALSE)","v":"女"}]
[null,15,{"v":75.8,"d":"75.80"},"高中语文教师",101,"韩睿雅",{"$f":"VLOOKUP(F36,[1]Sheet1!A$1:B$65536,2,FALSE)","v":"女"}]
[null,16,{"v":78.4,"d":"78.40"},"高中语文教师",101,"王艳",{"$f":"VLOOKUP(F37,[1]Sheet1!A$1:B$65536,2,FALSE)","v":"女"}]
[null,1,82.2,"高中政治教师",901,"郭寒茜",{"$f":"VLOOKUP(F38,[1]Sheet1!A$1:B$65536,2,FALSE)","v":"女"}]
[null,2,69.8,"高中政治教师",901,"李雪梅",{"$f":"VLOOKUP(F39,[1]Sheet1!A$1:B$65536,2,FALSE)","v":"女"}]
[null,3,82.2,"高中政治教师",901,"李志",{"$f":"VLOOKUP(F40,[1]Sheet1!A$1:B$65536,2,FALSE)","v":"女"}]
[null,4,78.4,"高中政治教师",901,"丁逸阳",{"$f":"VLOOKUP(F41,[1]Sheet1!A$1:B$65536,2,FALSE)","v":"女"}]
[null,5,81.2,"高中政治教师",901,"钟佳晔",{"$f":"VLOOKUP(F42,[1]Sheet1!A$1:B$65536,2,FALSE)","v":"女"}]
[null,6,83.8,"高中政治教师",901,"李文银",{"$f":"VLOOKUP(F43,[1]Sheet1!A$1:B$65536,2,FALSE)","v":"女"}]
[null,7,81,"高中政治教师",901,"牟可凡",{"$f":"VLOOKUP(F44,[1]Sheet1!A$1:B$65536,2,FALSE)","v":"女"}]
[null,8,74.2,"高中政治教师",901,"张紫婷",{"$f":"VLOOKUP(F45,[1]Sheet1!A$1:B$65536,2,FALSE)","v":"女"}]
[null,9,83.8,"高中政治教师",901,"胡洁",{"$f":"VLOOKUP(F46,[1]Sheet1!A$1:B$65536,2,FALSE)","v":"女"}]
[null,10,77.6,"高中政治教师",901,"昝玉冰",{"$f":"VLOOKUP(F47,[1]Sheet1!A$1:B$65536,2,FALSE)","v":"女"}]
[null,11,77.2,"高中政治教师",901,"张思微",{"$f":"VLOOKUP(F48,[1]Sheet1!A$1:B$65536,2,FALSE)","v":"女"}]
[null,12,79.4,"高中政治教师",901,"张佳颖",{"$f":"VLOOKUP(F49,[1]Sheet1!A$1:B$65536,2,FALSE)","v":"女"}]
[null,13,74,"高中政治教师",901,"纵帅",{"$f":"VLOOKUP(F50,[1]Sheet1!A$1:B$65536,2,FALSE)","v":"男"}]
[null,14,83.4,"高中政治教师",901,"苑金鑫",{"$f":"VLOOKUP(F51,[1]Sheet1!A$1:B$65536,2,FALSE)","v":"女"}]
[null,15,83.2,"高中政治教师",901,"杜文杰",{"$f":"VLOOKUP(F52,[1]Sheet1!A$1:B$65536,2,FALSE)","v":"女"}]
[null,16,77.2,"高中政治教师",901,"李莹莹",{"$f":"VLOOKUP(F53,[1]Sheet1!A$1:B$65536,2,FALSE)","v":"女"}]
[null,17,83.6,"高中政治教师",901,"李文焕",{"$f":"VLOOKUP(F54,[1]Sheet1!A$1:B$65536,2,FALSE)","v":"女"}]
[null,18,72.6,"高中政治教师",901,"胡祥秋",{"$f":"VLOOKUP(F55,[1]Sheet1!A$1:B$65536,2,FALSE)","v":"男"}]
[null,19,86.6,"高中政治教师",901,"杨红娟",{"$f":"VLOOKUP(F56,[1]Sheet1!A$1:B$65536,2,FALSE)","v":"女"}]
[null,20,89,"高中政治教师",901,"景小瑞",{"$f":"VLOOKUP(F57,[1]Sheet1!A$1:B$65536,2,FALSE)","v":"女"}]
[null,1,{"v":94,"d":"94.00"},"高中化学教师",501,"许媛媛",{"$f":"VLOOKUP(F58,[1]Sheet1!A$1:B$65536,2,FALSE)","v":"女"}]
[null,2,{"v":85.4,"d":"85.40"},"高中化学教师",501,"张汝臻",{"$f":"VLOOKUP(F59,[1]Sheet1!A$1:B$65536,2,FALSE)","v":"女"}]
[null,3,{"v":84.4,"d":"84.40"},"高中化学教师",501,"王硕",{"$f":"VLOOKUP(F60,[1]Sheet1!A$1:B$65536,2,FALSE)","v":"女"}]
[null,4,{"v":85.8,"d":"85.80"},"高中化学教师",501,"张洁",{"$f":"VLOOKUP(F61,[1]Sheet1!A$1:B$65536,2,FALSE)","v":"女"}]
[null,5,{"v":86,"d":"86.00"},"高中化学教师",501,"王子龙",{"$f":"VLOOKUP(F62,[1]Sheet1!A$1:B$65536,2,FALSE)","v":"男"}]
[null,6,{"v":86,"d":"86.00"},"高中化学教师",501,"喻言",{"$f":"VLOOKUP(F63,[1]Sheet1!A$1:B$65536,2,FALSE)","v":"男"}]
[null,7,{"v":78.6,"d":"78.60"},"高中化学教师",501,"赵悦婷",{"$f":"VLOOKUP(F64,[1]Sheet1!A$1:B$65536,2,FALSE)","v":"女"}]
[null,8,{"v":80.6,"d":"80.60"},"高中化学教师",501,"李雨晴",{"$f":"VLOOKUP(F65,[1]Sheet1!A$1:B$65536,2,FALSE)","v":"女"}]
[null,9,{"v":89.8,"d":"89.80"},"高中化学教师",501,"张均耀",{"$f":"VLOOKUP(F66,[1]Sheet1!A$1:B$65536,2,FALSE)","v":"男"}]
[null,10,{"v":91.6,"d":"91.60"},"高中化学教师",501,"周瑜",{"$f":"VLOOKUP(F67,[1]Sheet1!A$1:B$65536,2,FALSE)","v":"男"}]
[null,11,{"v":83.2,"d":"83.20"},"高中化学教师",501,"付雪莹",{"$f":"VLOOKUP(F68,[1]Sheet1!A$1:B$65536,2,FALSE)","v":"女"}]
[null,12,{"v":87.6,"d":"87.60"},"高中化学教师",501,"李明宇",{"$f":"VLOOKUP(F69,[1]Sheet1!A$1:B$65536,2,FALSE)","v":"女"}]
[null,13,{"v":82.2,"d":"82.20"},"高中化学教师",501,"龙泳学",{"$f":"VLOOKUP(F70,[1]Sheet1!A$1:B$65536,2,FALSE)","v":"男"}]
[null,14,{"v":83.4,"d":"83.40"},"高中化学教师",501,"龚玉凤",{"$f":"VLOOKUP(F71,[1]Sheet1!A$1:B$65536,2,FALSE)","v":"女"}]
[null,15,{"v":83.4,"d":"83.40"},"高中化学教师",501,"朱文淼",{"$f":"VLOOKUP(F72,[1]Sheet1!A$1:B$65536,2,FALSE)","v":"女"}]
[null,16,{"v":81.4,"d":"81.40"},"高中化学教师",501,"史晓丽",{"$f":"VLOOKUP(F73,[1]Sheet1!A$1:B$65536,2,FALSE)","v":"女"}]
[null,17,{"v":85.8,"d":"85.80"},"高中化学教师",501,"朱亚杰",{"$f":"VLOOKUP(F74,[1]Sheet1!A$1:B$65536,2,FALSE)","v":"男"}]
[null,18,{"v":85.2,"d":"85.20"},"高中化学教师",501,"郭佳音",{"$f":"VLOOKUP(F75,[1]Sheet1!A$1:B$65536,2,FALSE)","v":"女"}]
[null,19,{"v":83.6,"d":"83.60"},"高中化学教师",501,"宋兆阳",{"$f":"VLOOKUP(F76,[1]Sheet1!A$1:B$65536,2,FALSE)","v":"男"}]
[null,1,{"v":90.4,"d":"90.40"},"高中地理教师",801,"张欣惠",{"$f":"VLOOKUP(F77,[1]Sheet1!A$1:B$65536,2,FALSE)","v":"女"}]
[null,2,{"v":86,"d":"86.00"},"高中地理教师",801,"秦乃馨",{"$f":"VLOOKUP(F78,[1]Sheet1!A$1:B$65536,2,FALSE)","v":"女"}]
[null,3,{"v":88.2,"d":"88.20"},"高中地理教师",801,"马伟强",{"$f":"VLOOKUP(F79,[1]Sheet1!A$1:B$65536,2,FALSE)","v":"男"}]
[null,4,{"v":83,"d":"83.00"},"高中地理教师",801,"胡一诺",{"$f":"VLOOKUP(F80,[1]Sheet1!A$1:B$65536,2,FALSE)","v":"女"}]
[null,5,{"v":86,"d":"86.00"},"高中地理教师",801,"张澳",{"$f":"VLOOKUP(F81,[1]Sheet1!A$1:B$65536,2,FALSE)","v":"女"}]
[null,6,{"v":81.4,"d":"81.40"},"高中地理教师",801,"程晓静",{"$f":"VLOOKUP(F82,[1]Sheet1!A$1:B$65536,2,FALSE)","v":"女"}]
[null,7,{"v":88.6,"d":"88.60"},"高中地理教师",801,"宋美玲",{"$f":"VLOOKUP(F83,[1]Sheet1!A$1:B$65536,2,FALSE)","v":"女"}]
[null,8,{"v":82.6,"d":"82.60"},"高中地理教师",801,"高梦珂",{"$f":"VLOOKUP(F84,[1]Sheet1!A$1:B$65536,2,FALSE)","v":"女"}]
[null,9,{"v":94.8,"d":"94.80"},"高中地理教师",801,"李昕阳",{"$f":"VLOOKUP(F85,[1]Sheet1!A$1:B$65536,2,FALSE)","v":"女"}]
[null,10,{"v":86.2,"d":"86.20"},"高中地理教师",801,"蒋凯伦",{"$f":"VLOOKUP(F86,[1]Sheet1!A$1:B$65536,2,FALSE)","v":"女"}]
[null,1,76.2,"高中生物教师",601,"任梦",{"$f":"VLOOKUP(F87,[1]Sheet1!A$1:B$65536,2,FALSE)","v":"女"}]
[null,2,72.2,"高中生物教师",601,"杜静",{"$f":"VLOOKUP(F88,[1]Sheet1!A$1:B$65536,2,FALSE)","v":"女"}]
[null,3,79.4,"高中生物教师",601,"李雅慧",{"$f":"VLOOKUP(F89,[1]Sheet1!A$1:B$65536,2,FALSE)","v":"女"}]
[null,4,74.4,"高中生物教师",601,"胡金玉",{"$f":"VLOOKUP(F90,[1]Sheet1!A$1:B$65536,2,FALSE)","v":"女"}]
[null,5,78.4,"高中生物教师",601,"葛晓杰",{"$f":"VLOOKUP(F91,[1]Sheet1!A$1:B$65536,2,FALSE)","v":"女"}]
[null,6,79,"高中生物教师",601,"张锦",{"$f":"VLOOKUP(F92,[1]Sheet1!A$1:B$65536,2,FALSE)","v":"女"}]
[null,7,80,"高中生物教师",601,"汪莙晓",{"$f":"VLOOKUP(F93,[1]Sheet1!A$1:B$65536,2,FALSE)","v":"女"}]
[null,8,84.2,"高中生物教师",601,"韩继者",{"$f":"VLOOKUP(F94,[1]Sheet1!A$1:B$65536,2,FALSE)","v":"男"}]
[null,9,75.4,"高中生物教师",601,"王梦亭",{"$f":"VLOOKUP(F95,[1]Sheet1!A$1:B$65536,2,FALSE)","v":"女"}]
[null,10,82.8,"高中生物教师",601,"张雅楠",{"$f":"VLOOKUP(F96,[1]Sheet1!A$1:B$65536,2,FALSE)","v":"女"}]
[null,11,76.8,"高中生物教师",601,"詹振凤",{"$f":"VLOOKUP(F97,[1]Sheet1!A$1:B$65536,2,FALSE)","v":"女"}]
[null,12,75.8,"高中生物教师",601,"何春梅",{"$f":"VLOOKUP(F98,[1]Sheet1!A$1:B$65536,2,FALSE)","v":"女"}]
[null,13,80.8,"高中生物教师",601,"李志丹",{"$f":"VLOOKUP(F99,[1]Sheet1!A$1:B$65536,2,FALSE)","v":"女"}]
[null,14,74,"高中生物教师",601,"耿海潮",{"$f":"VLOOKUP(F100,[1]Sheet1!A$1:B$65536,2,FALSE)","v":"男"}]
[null,15,77.8,"高中生物教师",601,"刘文其",{"$f":"VLOOKUP(F101,[1]Sheet1!A$1:B$65536,2,FALSE)","v":"女"}]
[null,16,74.8,"高中生物教师",601,"徐珍珍",{"$f":"VLOOKUP(F102,[1]Sheet1!A$1:B$65536,2,FALSE)","v":"女"}]
[null,17,87,"高中生物教师",601,"何成功",{"$f":"VLOOKUP(F103,[1]Sheet1!A$1:B$65536,2,FALSE)","v":"男"}]
[null,18,74.2,"高中生物教师",601,"张七",{"$f":"VLOOKUP(F104,[1]Sheet1!A$1:B$65536,2,FALSE)","v":"男"}]
[null,19,74.8,"高中生物教师",601,"徐悦",{"$f":"VLOOKUP(F105,[1]Sheet1!A$1:B$65536,2,FALSE)","v":"女"}]
[null,20,71.2,"高中生物教师",601,"李傲宇",{"$f":"VLOOKUP(F106,[1]Sheet1!A$1:B$65536,2,FALSE)","v":"男"}]
[null,21,85.4,"高中生物教师",601,"韩济鸿",{"$f":"VLOOKUP(F107,[1]Sheet1!A$1:B$65536,2,FALSE)","v":"女"}]
[null,22,83.2,"高中生物教师",601,"戴晴",{"$f":"VLOOKUP(F108,[1]Sheet1!A$1:B$65536,2,FALSE)","v":"女"}]
[null,1,71.4,"高中历史教师",701,"刘德龙",{"$f":"VLOOKUP(F109,[1]Sheet1!A$1:B$65536,2,FALSE)","v":"男"}]
[null,2,79.4,"高中历史教师",701,"李宝强",{"$f":"VLOOKUP(F110,[1]Sheet1!A$1:B$65536,2,FALSE)","v":"男"}]
[null,3,72.2,"高中历史教师",701,"王存芳",{"$f":"VLOOKUP(F111,[1]Sheet1!A$1:B$65536,2,FALSE)","v":"男"}]
[null,4,80,"高中历史教师",701,"刘延秋",{"$f":"VLOOKUP(F112,[1]Sheet1!A$1:B$65536,2,FALSE)","v":"女"}]
[null,5,82.4,"高中历史教师",701,"江仁腾",{"$f":"VLOOKUP(F113,[1]Sheet1!A$1:B$65536,2,FALSE)","v":"男"}]
[null,6,78.2,"高中历史教师",701,"常心雨",{"$f":"VLOOKUP(F114,[1]Sheet1!A$1:B$65536,2,FALSE)","v":"女"}]
[null,7,79,"高中历史教师",701,"李家豪",{"$f":"VLOOKUP(F115,[1]Sheet1!A$1:B$65536,2,FALSE)","v":"男"}]
[null,8,83.2,"高中历史教师",701,"严早霞",{"$f":"VLOOKUP(F116,[1]Sheet1!A$1:B$65536,2,FALSE)","v":"女"}]
[null,9,83.2,"高中历史教师",701,"孙梦",{"$f":"VLOOKUP(F117,[1]Sheet1!A$1:B$65536,2,FALSE)","v":"女"}]
[null,10,81.8,"高中历史教师",701,"冯文瀚",{"$f":"VLOOKUP(F118,[1]Sheet1!A$1:B$65536,2,FALSE)","v":"男"}]
[null,11,80.6,"高中历史教师",701,"祁石刚",{"$f":"VLOOKUP(F119,[1]Sheet1!A$1:B$65536,2,FALSE)","v":"男"}]
[null,12,82.6,"高中历史教师",701,"徐茂晋",{"$f":"VLOOKUP(F120,[1]Sheet1!A$1:B$65536,2,FALSE)","v":"男"}]
[null,13,77,"高中历史教师",701,"陈浩",{"$f":"VLOOKUP(F121,[1]Sheet1!A$1:B$65536,2,FALSE)","v":"男"}]
[null,14,81,"高中历史教师",701,"徐紫嫣",{"$f":"VLOOKUP(F122,[1]Sheet1!A$1:B$65536,2,FALSE)","v":"女"}]
[null,1,{"v":81,"d":"81.00"},"高中英语教师",301,"宋倩茹",{"$f":"VLOOKUP(F123,[1]Sheet1!A$1:B$65536,2,FALSE)","v":"女"}]
[null,2,{"v":77.8,"d":"77.80"},"高中英语教师",301,"张红晓",{"$f":"VLOOKUP(F124,[1]Sheet1!A$1:B$65536,2,FALSE)","v":"女"}]
[null,3,{"v":86.2,"d":"86.20"},"高中英语教师",301,"李芷茵",{"$f":"VLOOKUP(F125,[1]Sheet1!A$1:B$65536,2,FALSE)","v":"女"}]
[null,4,{"v":83,"d":"83.00"},"高中英语教师",301,"独文莉",{"$f":"VLOOKUP(F126,[1]Sheet1!A$1:B$65536,2,FALSE)","v":"女"}]
[null,5,{"v":89.6,"d":"89.60"},"高中英语教师",301,"尹梦瑶",{"$f":"VLOOKUP(F127,[1]Sheet1!A$1:B$65536,2,FALSE)","v":"女"}]
[null,6,{"v":83.2,"d":"83.20"},"高中英语教师",301,"刘澳中",{"$f":"VLOOKUP(F128,[1]Sheet1!A$1:B$65536,2,FALSE)","v":"男"}]
[null,7,{"v":80.4,"d":"80.40"},"高中英语教师",301,"郭杰",{"$f":"VLOOKUP(F129,[1]Sheet1!A$1:B$65536,2,FALSE)","v":"女"}]
[null,8,{"v":83.8,"d":"83.80"},"高中英语教师",301,"陆政晓",{"$f":"VLOOKUP(F130,[1]Sheet1!A$1:B$65536,2,FALSE)","v":"女"}]
[null,9,{"v":85,"d":"85.00"},"高中英语教师",301,"闫涵",{"$f":"VLOOKUP(F131,[1]Sheet1!A$1:B$65536,2,FALSE)","v":"女"}]
[null,10,{"v":77.6,"d":"77.60"},"高中英语教师",301,"赵鑫",{"$f":"VLOOKUP(F132,[1]Sheet1!A$1:B$65536,2,FALSE)","v":"女"}]
[null,11,{"v":87,"d":"87.00"},"高中英语教师",301,"石雨婷",{"$f":"VLOOKUP(F133,[1]Sheet1!A$1:B$65536,2,FALSE)","v":"女"}]
[null,12,{"v":83.4,"d":"83.40"},"高中英语教师",301,"张子腾",{"$f":"VLOOKUP(F134,[1]Sheet1!A$1:B$65536,2,FALSE)","v":"女"}]
[null,13,{"v":84.2,"d":"84.20"},"高中英语教师",301,"王雨桐",{"$f":"VLOOKUP(F135,[1]Sheet1!A$1:B$65536,2,FALSE)","v":"女"}]
[null,14,{"v":81.6,"d":"81.60"},"高中英语教师",301,"王洁",{"$f":"VLOOKUP(F136,[1]Sheet1!A$1:B$65536,2,FALSE)","v":"女"}]
[null,15,{"v":79.4,"d":"79.40"},"高中英语教师",301,"张红云",{"$f":"VLOOKUP(F137,[1]Sheet1!A$1:B$65536,2,FALSE)","v":"女"}]
[null,16,{"v":71.6,"d":"71.60"},"高中英语教师",301,"葛绮萌",{"$f":"VLOOKUP(F138,[1]Sheet1!A$1:B$65536,2,FALSE)","v":"女"}]
[null,17,{"v":84.4,"d":"84.40"},"高中英语教师",301,"潘冠秀",{"$f":"VLOOKUP(F139,[1]Sheet1!A$1:B$65536,2,FALSE)","v":"女"}]
[null,18,{"v":83.6,"d":"83.60"},"高中英语教师",301,"韩雨",{"$f":"VLOOKUP(F140,[1]Sheet1!A$1:B$65536,2,FALSE)","v":"女"}]
[null,19,{"v":78.6,"d":"78.60"},"高中英语教师",301,"董婷贞",{"$f":"VLOOKUP(F141,[1]Sheet1!A$1:B$65536,2,FALSE)","v":"女"}]
[null,20,{"v":83.4,"d":"83.40"},"高中英语教师",301,"丁曼盈",{"$f":"VLOOKUP(F142,[1]Sheet1!A$1:B$65536,2,FALSE)","v":"女"}]
[null,21,{"v":79,"d":"79.00"},"高中英语教师",301,"王晴",{"$f":"VLOOKUP(F143,[1]Sheet1!A$1:B$65536,2,FALSE)","v":"女"}]
[null,22,{"v":85.2,"d":"85.20"},"高中英语教师",301,"彭紫萌",{"$f":"VLOOKUP(F144,[1]Sheet1!A$1:B$65536,2,FALSE)","v":"女"}]
[null,23,{"v":80,"d":"80.00"},"高中英语教师",301,"朱疏桐",{"$f":"VLOOKUP(F145,[1]Sheet1!A$1:B$65536,2,FALSE)","v":"男"}]
[null,24,{"v":82.8,"d":"82.80"},"高中英语教师",301,"施慧杰",{"$f":"VLOOKUP(F146,[1]Sheet1!A$1:B$65536,2,FALSE)","v":"女"}]
[null,25,{"v":79.4,"d":"79.40"},"高中英语教师",301,"宋萱萱",{"$f":"VLOOKUP(F147,[1]Sheet1!A$1:B$65536,2,FALSE)","v":"女"}]
[null,26,{"v":77.8,"d":"77.80"},"高中英语教师",301,"王鑫萌",{"$f":"VLOOKUP(F148,[1]Sheet1!A$1:B$65536,2,FALSE)","v":"女"}]
[null,27,{"v":77.6,"d":"77.60"},"高中英语教师",301,"张梦璐",{"$f":"VLOOKUP(F149,[1]Sheet1!A$1:B$65536,2,FALSE)","v":"女"}]
[null,28,{"v":80.4,"d":"80.40"},"高中英语教师",301,"刁振坤",{"$f":"VLOOKUP(F150,[1]Sheet1!A$1:B$65536,2,FALSE)","v":"男"}]
[null,29,{"v":79.6,"d":"79.60"},"高中英语教师",301,"欧广皙",{"$f":"VLOOKUP(F151,[1]Sheet1!A$1:B$65536,2,FALSE)","v":"女"}]